BEGIN:VCALENDAR
VERSION:2.0
PRODID:-//Commune de Laconnex • Canton de Genève - ECPv6.10.1.1//NONSGML v1.0//EN
CALSCALE:GREGORIAN
METHOD:PUBLISH
X-ORIGINAL-URL:https://www.laconnex.ch
X-WR-CALDESC:Évènements pour Commune de Laconnex • Canton de Genève
REFRESH-INTERVAL;VALUE=DURATION:PT1H
X-Robots-Tag:noindex
X-PUBLISHED-TTL:PT1H
BEGIN:VTIMEZONE
TZID:Europe/Zurich
BEGIN:DAYLIGHT
TZOFFSETFROM:+0100
TZOFFSETTO:+0200
TZNAME:CEST
DTSTART:20200329T010000
END:DAYLIGHT
BEGIN:STANDARD
TZOFFSETFROM:+0200
TZOFFSETTO:+0100
TZNAME:CET
DTSTART:20201025T010000
END:STANDARD
END:VTIMEZONE
BEGIN:VEVENT
DTSTART;TZID=Europe/Zurich:20200307T073000
DTEND;TZID=Europe/Zurich:20200307T180000
DTSTAMP:20260425T055247
CREATED:20191121T083244Z
LAST-MODIFIED:20200217T075138Z
UID:10002456-1583566200-1583604000@www.laconnex.ch
SUMMARY:Sortie à skis
DESCRIPTION:Toutes les informations et inscription pour la sortie ski du 7 mars
URL:https://www.laconnex.ch/rendez-vous/sortie-a-skis-2/
LOCATION:Avoriaz
CATEGORIES:Manifestations
ATTACH;FMTTYPE=image/jpeg:https://www.laconnex.ch/2025/wp-content/uploads/skieur.jpg
END:VEVENT
END:VCALENDAR