BEGIN:VCALENDAR
VERSION:2.0
PRODID:-//Commune de Laconnex • Canton de Genève - ECPv6.10.1.1//NONSGML v1.0//EN
CALSCALE:GREGORIAN
METHOD:PUBLISH
X-ORIGINAL-URL:https://www.laconnex.ch
X-WR-CALDESC:Évènements pour Commune de Laconnex • Canton de Genève
REFRESH-INTERVAL;VALUE=DURATION:PT1H
X-Robots-Tag:noindex
X-PUBLISHED-TTL:PT1H
BEGIN:VTIMEZONE
TZID:Europe/Zurich
BEGIN:DAYLIGHT
TZOFFSETFROM:+0100
TZOFFSETTO:+0200
TZNAME:CEST
DTSTART:20230326T010000
END:DAYLIGHT
BEGIN:STANDARD
TZOFFSETFROM:+0200
TZOFFSETTO:+0100
TZNAME:CET
DTSTART:20231029T010000
END:STANDARD
BEGIN:DAYLIGHT
TZOFFSETFROM:+0100
TZOFFSETTO:+0200
TZNAME:CEST
DTSTART:20240331T010000
END:DAYLIGHT
BEGIN:STANDARD
TZOFFSETFROM:+0200
TZOFFSETTO:+0100
TZNAME:CET
DTSTART:20241027T010000
END:STANDARD
BEGIN:DAYLIGHT
TZOFFSETFROM:+0100
TZOFFSETTO:+0200
TZNAME:CEST
DTSTART:20250330T010000
END:DAYLIGHT
BEGIN:STANDARD
TZOFFSETFROM:+0200
TZOFFSETTO:+0100
TZNAME:CET
DTSTART:20251026T010000
END:STANDARD
END:VTIMEZONE
BEGIN:VEVENT
DTSTART;TZID=Europe/Zurich:20250201T183000
DTEND;TZID=Europe/Zurich:20250202T010000
DTSTAMP:20260423T173829
CREATED:20250113T153656Z
LAST-MODIFIED:20250113T153754Z
UID:10007487-1738434600-1738458000@www.laconnex.ch
SUMMARY:Soirée raclette - 1er février
DESCRIPTION:
URL:https://www.laconnex.ch/rendez-vous/soiree-raclette-1er-fevrier/
LOCATION:Salle communale\, Chemin des Quarts 2\, Laconnex\, 1287\, Switzerland
CATEGORIES:Manifestations
ATTACH;FMTTYPE=image/jpeg:https://www.laconnex.ch/2025/wp-content/uploads/raclette2.jpg
GEO:46.1545605;6.0388887
X-APPLE-STRUCTURED-LOCATION;VALUE=URI;X-ADDRESS=Salle communale Chemin des Quarts 2 Laconnex 1287 Switzerland;X-APPLE-RADIUS=500;X-TITLE=Chemin des Quarts 2:geo:6.0388887,46.1545605
END:VEVENT
BEGIN:VEVENT
DTSTART;TZID=Europe/Zurich:20241109T180000
DTEND;TZID=Europe/Zurich:20241109T235900
DTSTAMP:20260423T173829
CREATED:20240902T120856Z
LAST-MODIFIED:20240902T120926Z
UID:10007473-1731175200-1731196740@www.laconnex.ch
SUMMARY:Soirée quiz musical
DESCRIPTION:
URL:https://www.laconnex.ch/rendez-vous/soiree-quiz-musical/
LOCATION:Salle communale\, Chemin des Quarts 2\, Laconnex\, 1287\, Switzerland
CATEGORIES:Manifestations
ATTACH;FMTTYPE=image/jpeg:https://www.laconnex.ch/2025/wp-content/uploads/mbgxz7pt0jm.jpg
GEO:46.1545605;6.0388887
X-APPLE-STRUCTURED-LOCATION;VALUE=URI;X-ADDRESS=Salle communale Chemin des Quarts 2 Laconnex 1287 Switzerland;X-APPLE-RADIUS=500;X-TITLE=Chemin des Quarts 2:geo:6.0388887,46.1545605
END:VEVENT
BEGIN:VEVENT
DTSTART;TZID=Europe/Zurich:20241026T220000
DTEND;TZID=Europe/Zurich:20241027T030000
DTSTAMP:20260423T173829
CREATED:20241017T063446Z
LAST-MODIFIED:20241017T063541Z
UID:10007474-1729980000-1729998000@www.laconnex.ch
SUMMARY:Bal Halloween
DESCRIPTION:Organisé par la Jeunesse au centre sportif
URL:https://www.laconnex.ch/rendez-vous/bal-halloween-2/
LOCATION:Centre sportif\, avenue de cavoitanne 99\, Laconnex\, 1287\, Suisse
CATEGORIES:Manifestations
ATTACH;FMTTYPE=image/jpeg:https://www.laconnex.ch/2025/wp-content/uploads/bal-des-citrouilles-Custom.jpg
END:VEVENT
BEGIN:VEVENT
DTSTART;TZID=Europe/Zurich:20240927T190000
DTEND;TZID=Europe/Zurich:20240927T233000
DTSTAMP:20260423T173829
CREATED:20240819T150246Z
LAST-MODIFIED:20240819T150246Z
UID:10007470-1727463600-1727479800@www.laconnex.ch
SUMMARY:FC Etoile Laconnex - repas de soutien
DESCRIPTION:
URL:https://www.laconnex.ch/rendez-vous/fc-etoile-laconnex-repas-de-soutien/
LOCATION:Centre sportif\, avenue de cavoitanne 99\, Laconnex\, 1287\, Suisse
CATEGORIES:Manifestations
ATTACH;FMTTYPE=image/jpeg:https://www.laconnex.ch/2025/wp-content/uploads/FC-Etoile-Laconnex-e1411915488642.jpg
ORGANIZER;CN="FC Etoile-Laconnex":MAILTO:etoile.laconnex@bluewin.ch
END:VEVENT
BEGIN:VEVENT
DTSTART;TZID=Europe/Zurich:20240901T100000
DTEND;TZID=Europe/Zurich:20240901T170000
DTSTAMP:20260423T173829
CREATED:20240603T082726Z
LAST-MODIFIED:20240603T084613Z
UID:10007455-1725184800-1725210000@www.laconnex.ch
SUMMARY:Vide-grenier
DESCRIPTION:Pour les inscriptions : https://forms.gle/rLF4snsXCKpb3Y7J6
URL:https://www.laconnex.ch/rendez-vous/vide-grenier-2/
LOCATION:Chemin des Méandres
CATEGORIES:Manifestations
ATTACH;FMTTYPE=image/jpeg:https://www.laconnex.ch/2025/wp-content/uploads/vide-grenier.jpg
END:VEVENT
BEGIN:VEVENT
DTSTART;TZID=Europe/Zurich:20240823T203000
DTEND;TZID=Europe/Zurich:20240823T220000
DTSTAMP:20260423T173829
CREATED:20240819T072404Z
LAST-MODIFIED:20240819T072404Z
UID:10007463-1724445000-1724450400@www.laconnex.ch
SUMMARY:Soirée Jazz en faveur de l'école de Pô au Burkina Faso
DESCRIPTION:
URL:https://www.laconnex.ch/rendez-vous/soiree-jazz-en-faveur-de-lecole-de-po-au-burkina-faso/
LOCATION:Amphithéâtre de l’école de Soral\, route des Lolliets 11\, Soral\, 1286\, Suisse
CATEGORIES:Manifestations
ATTACH;FMTTYPE=image/jpeg:https://www.laconnex.ch/2025/wp-content/uploads/jazz1.jpg
END:VEVENT
BEGIN:VEVENT
DTSTART;TZID=Europe/Zurich:20240801T180000
DTEND;TZID=Europe/Zurich:20240802T010000
DTSTAMP:20260423T173829
CREATED:20240718T070712Z
LAST-MODIFIED:20240718T070712Z
UID:10007458-1722535200-1722560400@www.laconnex.ch
SUMMARY:Fête nationale
DESCRIPTION:
URL:https://www.laconnex.ch/rendez-vous/fete-nationale-3/
LOCATION:Centre sportif\, avenue de cavoitanne 99\, Laconnex\, 1287\, Suisse
CATEGORIES:Manifestations
ATTACH;FMTTYPE=image/png:https://www.laconnex.ch/2025/wp-content/uploads/CARTE_DRAPEAU_SUISSE_svg.png
ORGANIZER;CN="Mairie de Laconnex":MAILTO:info@laconnex.ch
END:VEVENT
BEGIN:VEVENT
DTSTART;TZID=Europe/Zurich:20240731T180000
DTEND;TZID=Europe/Zurich:20240801T020000
DTSTAMP:20260423T173829
CREATED:20240718T070408Z
LAST-MODIFIED:20240718T070451Z
UID:10007457-1722448800-1722477600@www.laconnex.ch
SUMMARY:Bal des pompiers
DESCRIPTION:
URL:https://www.laconnex.ch/rendez-vous/bal-des-pompiers-2/
LOCATION:Centre sportif\, avenue de cavoitanne 99\, Laconnex\, 1287\, Suisse
CATEGORIES:Manifestations
ATTACH;FMTTYPE=image/jpeg:https://www.laconnex.ch/2025/wp-content/uploads/vawuhvxuvj4.jpg
END:VEVENT
BEGIN:VEVENT
DTSTART;TZID=Europe/Zurich:20240628T173000
DTEND;TZID=Europe/Zurich:20240628T230000
DTSTAMP:20260423T173829
CREATED:20240617T091753Z
LAST-MODIFIED:20240617T095158Z
UID:10007456-1719595800-1719615600@www.laconnex.ch
SUMMARY:Fête des écoles
DESCRIPTION:
URL:https://www.laconnex.ch/rendez-vous/fete-des-ecoles-5/
LOCATION:Centre sportif\, avenue de cavoitanne 99\, Laconnex\, 1287\, Suisse
CATEGORIES:Manifestations
ATTACH;FMTTYPE=image/jpeg:https://www.laconnex.ch/2025/wp-content/uploads/cylpykf-qam-1.jpg
END:VEVENT
BEGIN:VEVENT
DTSTART;TZID=Europe/Zurich:20240627T150000
DTEND;TZID=Europe/Zurich:20240627T180000
DTSTAMP:20260423T173829
CREATED:20231120T101818Z
LAST-MODIFIED:20231120T102107Z
UID:10007432-1719500400-1719511200@www.laconnex.ch
SUMMARY:Permanences sociales décentralisées dans les communes de la Champagne
DESCRIPTION:
URL:https://www.laconnex.ch/rendez-vous/permanences-sociales-decentralisees-dans-les-communes-de-la-champagne-2/
LOCATION:Mairie de Laconnex\, Rue de la Maison-Forte 11\, Laconnex\, 1287
CATEGORIES:Manifestations
ATTACH;FMTTYPE=image/jpeg:https://www.laconnex.ch/2025/wp-content/uploads/Capture-2.jpg
GEO:46.1568937;6.0369514
X-APPLE-STRUCTURED-LOCATION;VALUE=URI;X-ADDRESS=Mairie de Laconnex Rue de la Maison-Forte 11 Laconnex 1287;X-APPLE-RADIUS=500;X-TITLE=Rue de la Maison-Forte 11:geo:6.0369514,46.1568937
END:VEVENT
BEGIN:VEVENT
DTSTART;TZID=Europe/Zurich:20240505T180000
DTEND;TZID=Europe/Zurich:20240505T193000
DTSTAMP:20260423T173829
CREATED:20240418T142654Z
LAST-MODIFIED:20240418T142654Z
UID:10007454-1714932000-1714937400@www.laconnex.ch
SUMMARY:Spectacle d'improvisation
DESCRIPTION:
URL:https://www.laconnex.ch/rendez-vous/spectacle-dimprovisation-2/
LOCATION:Salle communale\, Chemin des Quarts 2\, Laconnex\, 1287\, Switzerland
CATEGORIES:Manifestations
ATTACH;FMTTYPE=image/jpeg:https://www.laconnex.ch/2025/wp-content/uploads/theatre-e1494504065876.jpg
GEO:46.1545605;6.0388887
X-APPLE-STRUCTURED-LOCATION;VALUE=URI;X-ADDRESS=Salle communale Chemin des Quarts 2 Laconnex 1287 Switzerland;X-APPLE-RADIUS=500;X-TITLE=Chemin des Quarts 2:geo:6.0388887,46.1545605
END:VEVENT
BEGIN:VEVENT
DTSTART;TZID=Europe/Zurich:20240428T110000
DTEND;TZID=Europe/Zurich:20240428T170000
DTSTAMP:20260423T173829
CREATED:20240415T095815Z
LAST-MODIFIED:20240415T113741Z
UID:10007453-1714302000-1714323600@www.laconnex.ch
SUMMARY:Tour de Romandie
DESCRIPTION:Le tour de Romandie passera par Laconnex. \nAttention\, le village ne sera pas desservi par les TPG pendant toute la durée du tour. \nPour plus d’informations\, le site officiel du Tour de Romandie 2024
URL:https://www.laconnex.ch/rendez-vous/tour-de-romandie/
LOCATION:Tout le village\, Laconnex\, 1287
CATEGORIES:Manifestations
ATTACH;FMTTYPE=image/jpeg:https://www.laconnex.ch/2025/wp-content/uploads/wuehagqo5he.jpg
GEO:46.1601438;6.0367737
END:VEVENT
BEGIN:VEVENT
DTSTART;TZID=Europe/Zurich:20240426T190000
DTEND;TZID=Europe/Zurich:20240426T200000
DTSTAMP:20260423T173829
CREATED:20231218T145401Z
LAST-MODIFIED:20240305T134853Z
UID:10007447-1714158000-1714161600@www.laconnex.ch
SUMMARY:Fanfare militaire
DESCRIPTION:Offert aux communes de la Champagne par l’armée
URL:https://www.laconnex.ch/rendez-vous/fanfare-militaire/
LOCATION:Centre sportif\, avenue de cavoitanne 99\, Laconnex\, 1287\, Suisse
CATEGORIES:Manifestations
ATTACH;FMTTYPE=image/jpeg:https://www.laconnex.ch/2025/wp-content/uploads/ypnu0_v5ttk.jpg
END:VEVENT
BEGIN:VEVENT
DTSTART;TZID=Europe/Zurich:20240323T213000
DTEND;TZID=Europe/Zurich:20240324T030000
DTSTAMP:20260423T173829
CREATED:20240229T133535Z
LAST-MODIFIED:20240229T140054Z
UID:10007451-1711229400-1711249200@www.laconnex.ch
SUMMARY:Bal de la Jeunesse
DESCRIPTION:
URL:https://www.laconnex.ch/rendez-vous/bal-de-la-jeunesse-2/
LOCATION:Centre sportif\, avenue de cavoitanne 99\, Laconnex\, 1287\, Suisse
CATEGORIES:Manifestations
ATTACH;FMTTYPE=image/jpeg:https://www.laconnex.ch/2025/wp-content/uploads/bal-fluoCroy.jpg
END:VEVENT
BEGIN:VEVENT
DTSTART;TZID=Europe/Zurich:20240322T183000
DTEND;TZID=Europe/Zurich:20240322T200000
DTSTAMP:20260423T173829
CREATED:20240314T082403Z
LAST-MODIFIED:20240314T082403Z
UID:10007452-1711132200-1711137600@www.laconnex.ch
SUMMARY:Soirée prévention écran pour les 16 - 20 ans
DESCRIPTION:
URL:https://www.laconnex.ch/rendez-vous/soiree-prevention-ecran-pour-les-16-20-ans/
LOCATION:Local du Gena à Gennecy\, avenue de Gennecy 52B\, Avully\, 1237
CATEGORIES:Manifestations
ATTACH;FMTTYPE=image/png:https://www.laconnex.ch/2025/wp-content/uploads/ecrans-Custom.png
END:VEVENT
BEGIN:VEVENT
DTSTART;TZID=Europe/Zurich:20240316T200000
DTEND;TZID=Europe/Zurich:20240316T213000
DTSTAMP:20260423T173829
CREATED:20231218T145103Z
LAST-MODIFIED:20240229T133003Z
UID:10007446-1710619200-1710624600@www.laconnex.ch
SUMMARY:Concert de soutien à l'association du Burkina Faso
DESCRIPTION:Concert offert par l’Orchestre des 3 Chênes en soutien à notre centre de formation à Pô au Burkina Faso
URL:https://www.laconnex.ch/rendez-vous/concert-de-soutien-a-lassociation-du-burkina-faso/
LOCATION:Centre sportif\, avenue de cavoitanne 99\, Laconnex\, 1287\, Suisse
CATEGORIES:Manifestations
ATTACH;FMTTYPE=image/jpeg:https://www.laconnex.ch/2025/wp-content/uploads/7ccpltywrso.jpg
END:VEVENT
BEGIN:VEVENT
DTSTART;VALUE=DATE:20240302
DTEND;VALUE=DATE:20240303
DTSTAMP:20260423T173829
CREATED:20231218T144756Z
LAST-MODIFIED:20240227T123210Z
UID:10007445-1709337600-1709423999@www.laconnex.ch
SUMMARY:Tournoi de Jass
DESCRIPTION:Annulé
URL:https://www.laconnex.ch/rendez-vous/tournoi-de-jass-4/
LOCATION:Centre sportif\, avenue de cavoitanne 99\, Laconnex\, 1287\, Suisse
CATEGORIES:Manifestations
ATTACH;FMTTYPE=image/jpeg:https://www.laconnex.ch/2025/wp-content/uploads/tournoi-de-jass.jpg
ORGANIZER;CN="FC Etoile-Laconnex":MAILTO:etoile.laconnex@bluewin.ch
END:VEVENT
BEGIN:VEVENT
DTSTART;TZID=Europe/Zurich:20231209T160200
DTEND;TZID=Europe/Zurich:20231209T233000
DTSTAMP:20260423T173829
CREATED:20231127T075312Z
LAST-MODIFIED:20231127T075312Z
UID:10007433-1702137720-1702164600@www.laconnex.ch
SUMMARY:Soupe de l'Escalade
DESCRIPTION:
URL:https://www.laconnex.ch/rendez-vous/soupe-de-lescalade/
LOCATION:Place du Four-Banal\, Place du Four-Banal\, Laconnex\, 1287\, Switzerland
CATEGORIES:Manifestations
ATTACH;FMTTYPE=image/jpeg:https://www.laconnex.ch/2025/wp-content/uploads/Escalade-e1411916633845.jpg
ORGANIZER;CN="FC Etoile-Laconnex":MAILTO:etoile.laconnex@bluewin.ch
GEO:46.15565;6.03582
X-APPLE-STRUCTURED-LOCATION;VALUE=URI;X-ADDRESS=Place du Four-Banal Place du Four-Banal Laconnex 1287 Switzerland;X-APPLE-RADIUS=500;X-TITLE=Place du Four-Banal:geo:6.03582,46.15565
END:VEVENT
BEGIN:VEVENT
DTSTART;TZID=Europe/Zurich:20231125T140000
DTEND;TZID=Europe/Zurich:20231125T170000
DTSTAMP:20260423T173829
CREATED:20231116T102354Z
LAST-MODIFIED:20231116T125953Z
UID:10007420-1700920800-1700931600@www.laconnex.ch
SUMMARY:Mise en place du sapin
DESCRIPTION:
URL:https://www.laconnex.ch/rendez-vous/mise-en-place-du-sapin/
LOCATION:Place du Four-Banal\, Place du Four-Banal\, Laconnex\, 1287\, Switzerland
CATEGORIES:Manifestations
ATTACH;FMTTYPE=image/jpeg:https://www.laconnex.ch/2025/wp-content/uploads/Sapin-de-Noël.jpg
GEO:46.15565;6.03582
X-APPLE-STRUCTURED-LOCATION;VALUE=URI;X-ADDRESS=Place du Four-Banal Place du Four-Banal Laconnex 1287 Switzerland;X-APPLE-RADIUS=500;X-TITLE=Place du Four-Banal:geo:6.03582,46.15565
END:VEVENT
BEGIN:VEVENT
DTSTART;TZID=Europe/Zurich:20230924T170000
DTEND;TZID=Europe/Zurich:20230924T183000
DTSTAMP:20260423T173829
CREATED:20230912T074624Z
LAST-MODIFIED:20230912T075502Z
UID:10007409-1695574800-1695580200@www.laconnex.ch
SUMMARY:Concert à Athenaz en faveur de notre association Burkina
DESCRIPTION:
URL:https://www.laconnex.ch/rendez-vous/concert-a-athenaz-en-faveur-de-notre-association-burkina/
LOCATION:Salle communale d’Avusy\, Creux-du-Loup 42\, Athenaz\, 1285
CATEGORIES:Manifestations
ATTACH;FMTTYPE=image/jpeg:https://www.laconnex.ch/2025/wp-content/uploads/aqib4qsi8wi.jpg
END:VEVENT
BEGIN:VEVENT
DTSTART;TZID=Europe/Zurich:20230922T160000
DTEND;TZID=Europe/Zurich:20230922T233000
DTSTAMP:20260423T173829
CREATED:20230921T064016Z
LAST-MODIFIED:20230921T064412Z
UID:10007414-1695398400-1695425400@www.laconnex.ch
SUMMARY:La nuit est belle
DESCRIPTION:
URL:https://www.laconnex.ch/rendez-vous/la-nuit-est-belle/
LOCATION:Ecole de Soral
CATEGORIES:Manifestations
ATTACH;FMTTYPE=image/jpeg:https://www.laconnex.ch/2025/wp-content/uploads/La-nuit-est-belle1.jpg
END:VEVENT
BEGIN:VEVENT
DTSTART;TZID=Europe/Zurich:20230915T183000
DTEND;TZID=Europe/Zurich:20230915T220000
DTSTAMP:20260423T173829
CREATED:20230821T075914Z
LAST-MODIFIED:20230821T075915Z
UID:10007407-1694802600-1694815200@www.laconnex.ch
SUMMARY:FIFDH 21e Festival du film et forum international sur les droits humains
DESCRIPTION:
URL:https://www.laconnex.ch/rendez-vous/fifdh-21e-festival-du-film-et-forum-international-sur-les-droits-humains/
LOCATION:Salle polyvalente d’Athenaz\, 35 route d'Athenaz\, Athenaz\, 1285\, Suisse
CATEGORIES:Manifestations
ATTACH;FMTTYPE=image/png:https://www.laconnex.ch/2025/wp-content/uploads/csm_BannersHomeSite6_56a097618f.png
GEO:46.1550643;6.003817
X-APPLE-STRUCTURED-LOCATION;VALUE=URI;X-ADDRESS=Salle polyvalente d’Athenaz 35 route d'Athenaz Athenaz 1285 Suisse;X-APPLE-RADIUS=500;X-TITLE=35 route d'Athenaz:geo:6.003817,46.1550643
END:VEVENT
BEGIN:VEVENT
DTSTART;TZID=Europe/Zurich:20230902T103000
DTEND;TZID=Europe/Zurich:20230902T120000
DTSTAMP:20260423T173829
CREATED:20230828T085046Z
LAST-MODIFIED:20230828T085046Z
UID:10007408-1693650600-1693656000@www.laconnex.ch
SUMMARY:RAE DE LA CHAMPAGNE - ANIMATION
DESCRIPTION:La commune de Laconnex et l’Association du Réseau Agro-Environnemental de la Champagne ont le plaisir de convier la population laconnésienne à un atelier de découverte du monde agricole et de sa biodiversité. \nRendez-vous le samedi 2 septembre à 10h30 au chemin des Mouilleuses pour découvrir différents types de surfaces de promotion de la biodiversité exploitées par Justine Batardon\, en présence de Maxime Dethurens\, représentant laconnésien du RAE Champagne et des spécialistes faune et flore. \nDurée\, environ 1h30. \nLa matinée se terminera par un moment de partage et de convivialité autour des produits du terroir. \nPour toute information complémentaire\, merci de contacter Nicolas Amann (076 615 32 63) ou Justine Batardon (079 268 62 71) ou Maxime Dethurens (078 758 76 17).
URL:https://www.laconnex.ch/rendez-vous/rae-de-la-champagne-animation/
LOCATION:Chemin des Mouilleuses\, Chemin des Mouilleuses\, Laconnex\, 1287\, Suisse
CATEGORIES:Manifestations
ATTACH;FMTTYPE=image/jpeg:https://www.laconnex.ch/2025/wp-content/uploads/znt5mmtjasy.jpg
END:VEVENT
BEGIN:VEVENT
DTSTART;TZID=Europe/Zurich:20230819T190000
DTEND;TZID=Europe/Zurich:20230819T233000
DTSTAMP:20260423T173829
CREATED:20230803T084240Z
LAST-MODIFIED:20230803T084240Z
UID:10007406-1692471600-1692487800@www.laconnex.ch
SUMMARY:Lacollywood
DESCRIPTION:
URL:https://www.laconnex.ch/rendez-vous/lacollywood-2/2023-08-19/
LOCATION:Route de la  Parraille\, Laconnex\, Suisse
CATEGORIES:Manifestations
ATTACH;FMTTYPE=image/jpeg:https://www.laconnex.ch/2025/wp-content/uploads/fsf9ymg6sla-2.jpg
END:VEVENT
BEGIN:VEVENT
DTSTART;TZID=Europe/Zurich:20230818T203000
DTEND;TZID=Europe/Zurich:20230818T223000
DTSTAMP:20260423T173829
CREATED:20230724T131513Z
LAST-MODIFIED:20230724T131657Z
UID:10007398-1692390600-1692397800@www.laconnex.ch
SUMMARY:Soirée Jazz en faveur de notre école au Burkina Faso
DESCRIPTION:
URL:https://www.laconnex.ch/rendez-vous/soiree-jazz-en-faveur-de-notre-ecole-au-burkina-faso/
LOCATION:Amphithéâtre de l’école de Soral\, route des Lolliets 11\, Soral\, 1286\, Suisse
CATEGORIES:Manifestations
ATTACH;FMTTYPE=image/jpeg:https://www.laconnex.ch/2025/wp-content/uploads/jazz-Custom.jpg
END:VEVENT
BEGIN:VEVENT
DTSTART;TZID=Europe/Zurich:20230818T190000
DTEND;TZID=Europe/Zurich:20230818T233000
DTSTAMP:20260423T173829
CREATED:20230803T084240Z
LAST-MODIFIED:20230803T084240Z
UID:10007405-1692385200-1692401400@www.laconnex.ch
SUMMARY:Lacollywood
DESCRIPTION:
URL:https://www.laconnex.ch/rendez-vous/lacollywood-2/2023-08-18/
LOCATION:Route de la  Parraille\, Laconnex\, Suisse
CATEGORIES:Manifestations
ATTACH;FMTTYPE=image/jpeg:https://www.laconnex.ch/2025/wp-content/uploads/fsf9ymg6sla-2.jpg
END:VEVENT
BEGIN:VEVENT
DTSTART;TZID=Europe/Zurich:20230817T190000
DTEND;TZID=Europe/Zurich:20230817T233000
DTSTAMP:20260423T173829
CREATED:20230803T084240Z
LAST-MODIFIED:20230803T084240Z
UID:10007404-1692298800-1692315000@www.laconnex.ch
SUMMARY:Lacollywood
DESCRIPTION:
URL:https://www.laconnex.ch/rendez-vous/lacollywood-2/2023-08-17/
LOCATION:Route de la  Parraille\, Laconnex\, Suisse
CATEGORIES:Manifestations
ATTACH;FMTTYPE=image/jpeg:https://www.laconnex.ch/2025/wp-content/uploads/fsf9ymg6sla-2.jpg
END:VEVENT
BEGIN:VEVENT
DTSTART;TZID=Europe/Zurich:20230816T190000
DTEND;TZID=Europe/Zurich:20230816T233000
DTSTAMP:20260423T173829
CREATED:20230803T084240Z
LAST-MODIFIED:20230803T084240Z
UID:10007403-1692212400-1692228600@www.laconnex.ch
SUMMARY:Lacollywood
DESCRIPTION:
URL:https://www.laconnex.ch/rendez-vous/lacollywood-2/2023-08-16/
LOCATION:Route de la  Parraille\, Laconnex\, Suisse
CATEGORIES:Manifestations
ATTACH;FMTTYPE=image/jpeg:https://www.laconnex.ch/2025/wp-content/uploads/fsf9ymg6sla-2.jpg
END:VEVENT
BEGIN:VEVENT
DTSTART;TZID=Europe/Zurich:20230801T181500
DTEND;TZID=Europe/Zurich:20230801T233000
DTSTAMP:20260423T173829
CREATED:20230629T065445Z
LAST-MODIFIED:20230703T120117Z
UID:10007395-1690913700-1690932600@www.laconnex.ch
SUMMARY:Fête nationale
DESCRIPTION:
URL:https://www.laconnex.ch/rendez-vous/fete-nationale-2/
LOCATION:Soral
CATEGORIES:Manifestations,Politique
ATTACH;FMTTYPE=image/jpeg:https://www.laconnex.ch/2025/wp-content/uploads/8iypumbarzo-1.jpg
END:VEVENT
BEGIN:VEVENT
DTSTART;TZID=Europe/Zurich:20230630T173000
DTEND;TZID=Europe/Zurich:20230630T233000
DTSTAMP:20260423T173829
CREATED:20230622T124725Z
LAST-MODIFIED:20230626T065252Z
UID:10007394-1688146200-1688167800@www.laconnex.ch
SUMMARY:Fête des écoles
DESCRIPTION:
URL:https://www.laconnex.ch/rendez-vous/fete-des-ecoles-4/
LOCATION:Soral
CATEGORIES:Manifestations
ATTACH;FMTTYPE=image/jpeg:https://www.laconnex.ch/2025/wp-content/uploads/besoins-des-enfants-Custom.jpg
END:VEVENT
END:VCALENDAR