BEGIN:VCALENDAR
VERSION:2.0
PRODID:-//Commune de Laconnex • Canton de Genève - ECPv6.10.1.1//NONSGML v1.0//EN
CALSCALE:GREGORIAN
METHOD:PUBLISH
X-WR-CALNAME:Commune de Laconnex • Canton de Genève
X-ORIGINAL-URL:https://www.laconnex.ch
X-WR-CALDESC:Évènements pour Commune de Laconnex • Canton de Genève
REFRESH-INTERVAL;VALUE=DURATION:PT1H
X-Robots-Tag:noindex
X-PUBLISHED-TTL:PT1H
BEGIN:VTIMEZONE
TZID:Europe/Zurich
BEGIN:DAYLIGHT
TZOFFSETFROM:+0100
TZOFFSETTO:+0200
TZNAME:CEST
DTSTART:20250330T010000
END:DAYLIGHT
BEGIN:STANDARD
TZOFFSETFROM:+0200
TZOFFSETTO:+0100
TZNAME:CET
DTSTART:20251026T010000
END:STANDARD
BEGIN:DAYLIGHT
TZOFFSETFROM:+0100
TZOFFSETTO:+0200
TZNAME:CEST
DTSTART:20260329T010000
END:DAYLIGHT
BEGIN:STANDARD
TZOFFSETFROM:+0200
TZOFFSETTO:+0100
TZNAME:CET
DTSTART:20261025T010000
END:STANDARD
END:VTIMEZONE
BEGIN:VEVENT
DTSTART;TZID=Europe/Zurich:20260411T183000
DTEND;TZID=Europe/Zurich:20260412T030000
DTSTAMP:20260422T174812
CREATED:20260311T105229Z
LAST-MODIFIED:20260311T105229Z
UID:10007608-1775932200-1775962800@www.laconnex.ch
SUMMARY:Concert et bal du printemps
DESCRIPTION:
URL:https://www.laconnex.ch/rendez-vous/concert-et-bal-du-printemps/
LOCATION:Centre sportif\, avenue de cavoitanne 99\, Laconnex\, 1287\, Suisse
CATEGORIES:Manifestations
ATTACH;FMTTYPE=image/jpeg:https://www.laconnex.ch/2025/wp-content/uploads/bal-fluoCroy.jpg
END:VEVENT
BEGIN:VEVENT
DTSTART;TZID=Europe/Zurich:20260307T073000
DTEND;TZID=Europe/Zurich:20260307T180000
DTSTAMP:20260422T174812
CREATED:20260210T094610Z
LAST-MODIFIED:20260210T094610Z
UID:10007607-1772868600-1772906400@www.laconnex.ch
SUMMARY:Sortie à skis
DESCRIPTION:
URL:https://www.laconnex.ch/rendez-vous/sortie-a-skis-4/
LOCATION:Soral
CATEGORIES:Manifestations
ATTACH;FMTTYPE=image/jpeg:https://www.laconnex.ch/2025/wp-content/uploads/skieur.jpg
END:VEVENT
BEGIN:VEVENT
DTSTART;TZID=Europe/Zurich:20260207T183000
DTEND;TZID=Europe/Zurich:20260208T003000
DTSTAMP:20260422T174812
CREATED:20260203T081808Z
LAST-MODIFIED:20260203T081917Z
UID:10007598-1770489000-1770510600@www.laconnex.ch
SUMMARY:Raclette Party
DESCRIPTION:
URL:https://www.laconnex.ch/rendez-vous/raclette-party/
LOCATION:Salle communale\, Chemin des Quarts 2\, Laconnex\, 1287\, Switzerland
CATEGORIES:Manifestations
ATTACH;FMTTYPE=image/jpeg:https://www.laconnex.ch/2025/wp-content/uploads/raclette1.jpg
GEO:46.1545605;6.0388887
X-APPLE-STRUCTURED-LOCATION;VALUE=URI;X-ADDRESS=Salle communale Chemin des Quarts 2 Laconnex 1287 Switzerland;X-APPLE-RADIUS=500;X-TITLE=Chemin des Quarts 2:geo:6.0388887,46.1545605
END:VEVENT
BEGIN:VEVENT
DTSTART;TZID=Europe/Zurich:20251224T180000
DTEND;TZID=Europe/Zurich:20251224T190000
DTSTAMP:20260422T174812
CREATED:20251202T104837Z
LAST-MODIFIED:20251202T104837Z
UID:10007588-1766599200-1766602800@www.laconnex.ch
SUMMARY:Calendrier de l'Avent
DESCRIPTION:Rebecca Grove \nChemin des Méandres 37 \nPas besoin d’apporter de la vaisselle
URL:https://www.laconnex.ch/rendez-vous/calendrier-de-lavent-24/
CATEGORIES:Manifestations
ATTACH;FMTTYPE=image/jpeg:https://www.laconnex.ch/2025/wp-content/uploads/wbenc1brggi.jpg
END:VEVENT
BEGIN:VEVENT
DTSTART;TZID=Europe/Zurich:20251223T180000
DTEND;TZID=Europe/Zurich:20251223T193000
DTSTAMP:20260422T174812
CREATED:20251202T104709Z
LAST-MODIFIED:20251202T104709Z
UID:10007587-1766512800-1766518200@www.laconnex.ch
SUMMARY:Calendrier de l'Avent
DESCRIPTION:Monique Thévenoz \nRue de la Maison-Forte 30 \nPas de verrée
URL:https://www.laconnex.ch/rendez-vous/calendrier-de-lavent-23/
CATEGORIES:Manifestations
ATTACH;FMTTYPE=image/jpeg:https://www.laconnex.ch/2025/wp-content/uploads/wbenc1brggi.jpg
END:VEVENT
BEGIN:VEVENT
DTSTART;TZID=Europe/Zurich:20251222T183000
DTEND;TZID=Europe/Zurich:20251222T193000
DTSTAMP:20260422T174812
CREATED:20251202T104539Z
LAST-MODIFIED:20251202T104539Z
UID:10007586-1766428200-1766431800@www.laconnex.ch
SUMMARY:Calendrier de l'Avent
DESCRIPTION:Laurence Friederich et ses voisins \nLa Vy-Neuve 21A \nPas besoin d’apporter de la vaisselle
URL:https://www.laconnex.ch/rendez-vous/calendrier-de-lavent-22/
CATEGORIES:Manifestations
ATTACH;FMTTYPE=image/jpeg:https://www.laconnex.ch/2025/wp-content/uploads/wbenc1brggi.jpg
END:VEVENT
BEGIN:VEVENT
DTSTART;TZID=Europe/Zurich:20251221T173000
DTEND;TZID=Europe/Zurich:20251221T183000
DTSTAMP:20260422T174812
CREATED:20251202T104416Z
LAST-MODIFIED:20251202T104416Z
UID:10007585-1766338200-1766341800@www.laconnex.ch
SUMMARY:Calendrier de l'Avent
DESCRIPTION:Myriam et Alain Florey et Monique Thévenoz \nRoute de la Maison-Forte 28 \nApportez votre tasse
URL:https://www.laconnex.ch/rendez-vous/calendrier-de-lavent-21/
CATEGORIES:Manifestations
ATTACH;FMTTYPE=image/jpeg:https://www.laconnex.ch/2025/wp-content/uploads/wbenc1brggi.jpg
END:VEVENT
BEGIN:VEVENT
DTSTART;TZID=Europe/Zurich:20251220T180000
DTEND;TZID=Europe/Zurich:20251220T190000
DTSTAMP:20260422T174812
CREATED:20251202T104245Z
LAST-MODIFIED:20251202T104245Z
UID:10007584-1766253600-1766257200@www.laconnex.ch
SUMMARY:Calendrier de l'Avent
DESCRIPTION:Famille Adrien Debry \nLa Vy-Neuve 5A \nApportez votre verre
URL:https://www.laconnex.ch/rendez-vous/calendrier-de-lavent-20/
CATEGORIES:Manifestations
ATTACH;FMTTYPE=image/jpeg:https://www.laconnex.ch/2025/wp-content/uploads/wbenc1brggi.jpg
END:VEVENT
BEGIN:VEVENT
DTSTART;TZID=Europe/Zurich:20251219T180000
DTEND;TZID=Europe/Zurich:20251219T190000
DTSTAMP:20260422T174812
CREATED:20251202T104122Z
LAST-MODIFIED:20251202T104122Z
UID:10007583-1766167200-1766170800@www.laconnex.ch
SUMMARY:Calendrier de l'Avent
DESCRIPTION:Fabienne et Denis Schott \nChemin de Mollaz 25 \nPas besoin d’apporter de la vaisselle
URL:https://www.laconnex.ch/rendez-vous/calendrier-de-lavent-19/
CATEGORIES:Manifestations
ATTACH;FMTTYPE=image/jpeg:https://www.laconnex.ch/2025/wp-content/uploads/wbenc1brggi.jpg
END:VEVENT
BEGIN:VEVENT
DTSTART;TZID=Europe/Zurich:20251218T183000
DTEND;TZID=Europe/Zurich:20251218T193000
DTSTAMP:20260422T174812
CREATED:20251202T103955Z
LAST-MODIFIED:20251202T103955Z
UID:10007582-1766082600-1766086200@www.laconnex.ch
SUMMARY:Calendrier de l'Avent
DESCRIPTION:Domaine de la Rose des Vents \nRoute du Lavoir 19 \nApportez votre tasse
URL:https://www.laconnex.ch/rendez-vous/calendrier-de-lavent-18/
CATEGORIES:Manifestations
ATTACH;FMTTYPE=image/jpeg:https://www.laconnex.ch/2025/wp-content/uploads/wbenc1brggi.jpg
END:VEVENT
BEGIN:VEVENT
DTSTART;TZID=Europe/Zurich:20251217T183000
DTEND;TZID=Europe/Zurich:20251217T193000
DTSTAMP:20260422T174812
CREATED:20251202T103852Z
LAST-MODIFIED:20251202T103852Z
UID:10007581-1765996200-1765999800@www.laconnex.ch
SUMMARY:Calendrier de l'Avent
DESCRIPTION:Familles Mabboux-Fort\, Jean et Dupraz \nRoute des Rupettes 9a-9c \nApportez votre verre ou votre tasse
URL:https://www.laconnex.ch/rendez-vous/calendrier-de-lavent-17/
CATEGORIES:Manifestations
ATTACH;FMTTYPE=image/jpeg:https://www.laconnex.ch/2025/wp-content/uploads/wbenc1brggi.jpg
END:VEVENT
BEGIN:VEVENT
DTSTART;TZID=Europe/Zurich:20251216T183000
DTEND;TZID=Europe/Zurich:20251216T193000
DTSTAMP:20260422T174812
CREATED:20251202T103721Z
LAST-MODIFIED:20251202T103721Z
UID:10007580-1765909800-1765913400@www.laconnex.ch
SUMMARY:Calendrier de l'Avent
DESCRIPTION:Christine et Samuel Läng \nRoute des Rupettes 1 \nPas besoin d’apporter de la vaisselle
URL:https://www.laconnex.ch/rendez-vous/calendrier-de-lavent-16/
CATEGORIES:Manifestations
ATTACH;FMTTYPE=image/jpeg:https://www.laconnex.ch/2025/wp-content/uploads/wbenc1brggi.jpg
END:VEVENT
BEGIN:VEVENT
DTSTART;TZID=Europe/Zurich:20251215T193000
DTEND;TZID=Europe/Zurich:20251215T203000
DTSTAMP:20260422T174812
CREATED:20251202T103611Z
LAST-MODIFIED:20251202T103611Z
UID:10007579-1765827000-1765830600@www.laconnex.ch
SUMMARY:Calendrier de l'Avent
DESCRIPTION:Marina et Mathieu Bardies \nRuelle du Bossattier 5 \nApportez votre tasse
URL:https://www.laconnex.ch/rendez-vous/calendrier-de-lavent-15/
CATEGORIES:Manifestations
ATTACH;FMTTYPE=image/jpeg:https://www.laconnex.ch/2025/wp-content/uploads/wbenc1brggi.jpg
END:VEVENT
BEGIN:VEVENT
DTSTART;TZID=Europe/Zurich:20251214T180000
DTEND;TZID=Europe/Zurich:20251214T190000
DTSTAMP:20260422T174812
CREATED:20251202T103455Z
LAST-MODIFIED:20251204T144946Z
UID:10007578-1765735200-1765738800@www.laconnex.ch
SUMMARY:Calendrier de l'Avent
DESCRIPTION:Bibliothèque LireAlaco \nsur la terrasse du café chez le Docteur \nSoirée contes et cornemuse \nPas besoin d’apporter de la vaisselle
URL:https://www.laconnex.ch/rendez-vous/calendrier-de-lavent-14/
CATEGORIES:Manifestations
ATTACH;FMTTYPE=image/jpeg:https://www.laconnex.ch/2025/wp-content/uploads/wbenc1brggi.jpg
END:VEVENT
BEGIN:VEVENT
DTSTART;TZID=Europe/Zurich:20251213T173000
DTEND;TZID=Europe/Zurich:20251213T183000
DTSTAMP:20260422T174812
CREATED:20251202T103225Z
LAST-MODIFIED:20251202T103225Z
UID:10007577-1765647000-1765650600@www.laconnex.ch
SUMMARY:Calendrier de l'Avent
DESCRIPTION:Catherine Dethurens et Philippe Gojon \nChemin des Méandres 10 \nApportez votre tasse
URL:https://www.laconnex.ch/rendez-vous/calendrier-de-lavent-13/
CATEGORIES:Manifestations
ATTACH;FMTTYPE=image/jpeg:https://www.laconnex.ch/2025/wp-content/uploads/wbenc1brggi.jpg
END:VEVENT
BEGIN:VEVENT
DTSTART;TZID=Europe/Zurich:20251213T160000
DTEND;TZID=Europe/Zurich:20251214T010000
DTSTAMP:20260422T174812
CREATED:20251014T140146Z
LAST-MODIFIED:20251113T152038Z
UID:10007562-1765641600-1765674000@www.laconnex.ch
SUMMARY:Fête de l'Escalade
DESCRIPTION:
URL:https://www.laconnex.ch/rendez-vous/fete-de-lescalade-6/
LOCATION:Salle communale\, Chemin des Quarts 2\, Laconnex\, 1287\, Switzerland
CATEGORIES:Manifestations
ATTACH;FMTTYPE=image/jpeg:https://www.laconnex.ch/2025/wp-content/uploads/Escalade-e1411916633845.jpg
GEO:46.1545605;6.0388887
X-APPLE-STRUCTURED-LOCATION;VALUE=URI;X-ADDRESS=Salle communale Chemin des Quarts 2 Laconnex 1287 Switzerland;X-APPLE-RADIUS=500;X-TITLE=Chemin des Quarts 2:geo:6.0388887,46.1545605
END:VEVENT
BEGIN:VEVENT
DTSTART;TZID=Europe/Zurich:20251212T180000
DTEND;TZID=Europe/Zurich:20251212T190000
DTSTAMP:20260422T174812
CREATED:20251202T102917Z
LAST-MODIFIED:20251202T103002Z
UID:10007576-1765562400-1765566000@www.laconnex.ch
SUMMARY:Calendrier de l'Avent
DESCRIPTION:Paysannes de Laconnex \nFontaine du Lavoir \nApportez votre tasse et/ou votre verre
URL:https://www.laconnex.ch/rendez-vous/calendrier-de-lavent-12/
CATEGORIES:Manifestations
ATTACH;FMTTYPE=image/jpeg:https://www.laconnex.ch/2025/wp-content/uploads/wbenc1brggi.jpg
END:VEVENT
BEGIN:VEVENT
DTSTART;TZID=Europe/Zurich:20251211T183000
DTEND;TZID=Europe/Zurich:20251211T193000
DTSTAMP:20260422T174812
CREATED:20251202T102801Z
LAST-MODIFIED:20251202T103039Z
UID:10007575-1765477800-1765481400@www.laconnex.ch
SUMMARY:Calendrier de l'Avent
DESCRIPTION:Yves Mermet \nRoute du Coteau 1 \nApportez votre tasse
URL:https://www.laconnex.ch/rendez-vous/calendrier-de-lavent-11/
CATEGORIES:Manifestations
ATTACH;FMTTYPE=image/jpeg:https://www.laconnex.ch/2025/wp-content/uploads/wbenc1brggi.jpg
END:VEVENT
BEGIN:VEVENT
DTSTART;TZID=Europe/Zurich:20251210T180000
DTEND;TZID=Europe/Zurich:20251210T190000
DTSTAMP:20260422T174812
CREATED:20251202T102641Z
LAST-MODIFIED:20251202T102641Z
UID:10007574-1765389600-1765393200@www.laconnex.ch
SUMMARY:Calendrier de l'Avent
DESCRIPTION:Joëlle et Jean-Marc Wasem \nChemin des Méandres 21 \nApportez votre verre
URL:https://www.laconnex.ch/rendez-vous/calendrier-de-lavent-10/
CATEGORIES:Manifestations
ATTACH;FMTTYPE=image/jpeg:https://www.laconnex.ch/2025/wp-content/uploads/wbenc1brggi.jpg
END:VEVENT
BEGIN:VEVENT
DTSTART;TZID=Europe/Zurich:20251209T180000
DTEND;TZID=Europe/Zurich:20251209T190000
DTSTAMP:20260422T174812
CREATED:20251202T102523Z
LAST-MODIFIED:20251202T102523Z
UID:10007573-1765303200-1765306800@www.laconnex.ch
SUMMARY:Calendrier de l'Avent
DESCRIPTION:Franziska et Jean-Jacques Mandallaz \nImpasse des Jumelles 15 \nPas besoin d’apporter de la vaisselle
URL:https://www.laconnex.ch/rendez-vous/calendrier-de-lavent-9/
CATEGORIES:Manifestations
ATTACH;FMTTYPE=image/jpeg:https://www.laconnex.ch/2025/wp-content/uploads/wbenc1brggi.jpg
END:VEVENT
BEGIN:VEVENT
DTSTART;TZID=Europe/Zurich:20251208T173000
DTEND;TZID=Europe/Zurich:20251208T183000
DTSTAMP:20260422T174812
CREATED:20251202T102325Z
LAST-MODIFIED:20251202T102325Z
UID:10007572-1765215000-1765218600@www.laconnex.ch
SUMMARY:Calendrier de l'Avent
DESCRIPTION:Elodie Nicogossian et Maxime Dethurens \nRte du Lavoir 10 \nApportez votre tasse
URL:https://www.laconnex.ch/rendez-vous/calendrier-de-lavent-8/
CATEGORIES:Manifestations
ATTACH;FMTTYPE=image/jpeg:https://www.laconnex.ch/2025/wp-content/uploads/wbenc1brggi.jpg
END:VEVENT
BEGIN:VEVENT
DTSTART;VALUE=DATE:20251207
DTEND;VALUE=DATE:20251208
DTSTAMP:20260422T174812
CREATED:20251201T160113Z
LAST-MODIFIED:20251201T160113Z
UID:10007571-1765065600-1765151999@www.laconnex.ch
SUMMARY:Calendrier de l'Avent
DESCRIPTION:Pas de fenêtre aujourd’hui
URL:https://www.laconnex.ch/rendez-vous/calendrier-de-lavent-7/
CATEGORIES:Manifestations
ATTACH;FMTTYPE=image/jpeg:https://www.laconnex.ch/2025/wp-content/uploads/wbenc1brggi.jpg
END:VEVENT
BEGIN:VEVENT
DTSTART;TZID=Europe/Zurich:20251206T173000
DTEND;TZID=Europe/Zurich:20251206T183000
DTSTAMP:20260422T174812
CREATED:20251201T160032Z
LAST-MODIFIED:20251201T160032Z
UID:10007570-1765042200-1765045800@www.laconnex.ch
SUMMARY:Calendrier de l'Avent
DESCRIPTION:Brigitte et Catherine Lachat \nPlace du Four-Banal 5bis \nApportez votre tasse
URL:https://www.laconnex.ch/rendez-vous/calendrier-de-lavent-6/
CATEGORIES:Manifestations
ATTACH;FMTTYPE=image/jpeg:https://www.laconnex.ch/2025/wp-content/uploads/wbenc1brggi.jpg
END:VEVENT
BEGIN:VEVENT
DTSTART;TZID=Europe/Zurich:20251205T180000
DTEND;TZID=Europe/Zurich:20251205T190000
DTSTAMP:20260422T174812
CREATED:20251201T155906Z
LAST-MODIFIED:20251201T155906Z
UID:10007569-1764957600-1764961200@www.laconnex.ch
SUMMARY:Calendrier de l'Avent
DESCRIPTION:Buvette du stade \nPas besoin d’apporter de la vaisselle
URL:https://www.laconnex.ch/rendez-vous/calendrier-de-lavent-5/
CATEGORIES:Manifestations
ATTACH;FMTTYPE=image/jpeg:https://www.laconnex.ch/2025/wp-content/uploads/wbenc1brggi.jpg
END:VEVENT
BEGIN:VEVENT
DTSTART;TZID=Europe/Zurich:20251204T183000
DTEND;TZID=Europe/Zurich:20251204T193000
DTSTAMP:20260422T174812
CREATED:20251201T155746Z
LAST-MODIFIED:20251201T155746Z
UID:10007568-1764873000-1764876600@www.laconnex.ch
SUMMARY:Calendrier de l'Avent
DESCRIPTION:Karen Cru \nMouilleuses 4 \nApportez votre verre
URL:https://www.laconnex.ch/rendez-vous/calendrier-de-lavent-4/
CATEGORIES:Manifestations
ATTACH;FMTTYPE=image/jpeg:https://www.laconnex.ch/2025/wp-content/uploads/wbenc1brggi.jpg
END:VEVENT
BEGIN:VEVENT
DTSTART;TZID=Europe/Zurich:20251203T190000
DTEND;TZID=Europe/Zurich:20251203T200000
DTSTAMP:20260422T174812
CREATED:20251201T155633Z
LAST-MODIFIED:20251201T155650Z
UID:10007567-1764788400-1764792000@www.laconnex.ch
SUMMARY:Calendrier de l'Avent
DESCRIPTION:Sarah Scheurer et Alexandre Chiriotti \nLa Vy-Neuve 3 \nApportez votre tasse
URL:https://www.laconnex.ch/rendez-vous/calendrier-de-lavent-3/
CATEGORIES:Manifestations
ATTACH;FMTTYPE=image/jpeg:https://www.laconnex.ch/2025/wp-content/uploads/wbenc1brggi.jpg
END:VEVENT
BEGIN:VEVENT
DTSTART;TZID=Europe/Zurich:20251202T183000
DTEND;TZID=Europe/Zurich:20251202T190000
DTSTAMP:20260422T174812
CREATED:20251201T155438Z
LAST-MODIFIED:20251201T155521Z
UID:10007566-1764700200-1764702000@www.laconnex.ch
SUMMARY:Calendrier de l'Avent
DESCRIPTION:Garage Dethurens \nLa Vy-Neuve 3 \nPas besoin d’apporter de la vaisselle
URL:https://www.laconnex.ch/rendez-vous/calendrier-de-lavent-2/
CATEGORIES:Manifestations
ATTACH;FMTTYPE=image/jpeg:https://www.laconnex.ch/2025/wp-content/uploads/wbenc1brggi.jpg
END:VEVENT
BEGIN:VEVENT
DTSTART;TZID=Europe/Zurich:20251201T180000
DTEND;TZID=Europe/Zurich:20251201T190000
DTSTAMP:20260422T174812
CREATED:20251201T155334Z
LAST-MODIFIED:20251201T155334Z
UID:10007565-1764612000-1764615600@www.laconnex.ch
SUMMARY:Calendrier de l'Avent
DESCRIPTION:Chez le Docteur \nPas besoin d’apporter de la vaisselle
URL:https://www.laconnex.ch/rendez-vous/calendrier-de-lavent/
CATEGORIES:Manifestations
ATTACH;FMTTYPE=image/jpeg:https://www.laconnex.ch/2025/wp-content/uploads/wbenc1brggi.jpg
END:VEVENT
BEGIN:VEVENT
DTSTART;TZID=Europe/Zurich:20251129T133000
DTEND;TZID=Europe/Zurich:20251129T170000
DTSTAMP:20260422T174812
CREATED:20251113T135351Z
LAST-MODIFIED:20251113T135351Z
UID:10007564-1764423000-1764435600@www.laconnex.ch
SUMMARY:Décoration du sapin et vin chaud
DESCRIPTION:
URL:https://www.laconnex.ch/rendez-vous/decoration-du-sapin-et-vin-chaud/
LOCATION:Place du Four-Banal\, Place du Four-Banal\, Laconnex\, 1287\, Switzerland
CATEGORIES:Manifestations
ATTACH;FMTTYPE=image/jpeg:https://www.laconnex.ch/2025/wp-content/uploads/sapin-déguisé-Custom.jpg
GEO:46.15565;6.03582
X-APPLE-STRUCTURED-LOCATION;VALUE=URI;X-ADDRESS=Place du Four-Banal Place du Four-Banal Laconnex 1287 Switzerland;X-APPLE-RADIUS=500;X-TITLE=Place du Four-Banal:geo:6.03582,46.15565
END:VEVENT
BEGIN:VEVENT
DTSTART;TZID=Europe/Zurich:20251122T173000
DTEND;TZID=Europe/Zurich:20251122T173000
DTSTAMP:20260422T174812
CREATED:20251022T074445Z
LAST-MODIFIED:20251022T074620Z
UID:10007563-1763832600-1763832600@www.laconnex.ch
SUMMARY:La nuit des Big Bands concerts Jazz et Latino à Avusy
DESCRIPTION:
URL:https://www.laconnex.ch/rendez-vous/la-nuit-des-big-bands-concerts-jazz-et-latino-a-avusy/
LOCATION:Salle communale d’Avusy\, Creux-du-Loup 42\, Athenaz\, 1285
CATEGORIES:Manifestations
ATTACH;FMTTYPE=image/jpeg:https://www.laconnex.ch/2025/wp-content/uploads/jazz-Custom.jpg
END:VEVENT
END:VCALENDAR