BEGIN:VCALENDAR
VERSION:2.0
PRODID:-//Commune de Laconnex • Canton de Genève - ECPv6.10.1.1//NONSGML v1.0//EN
CALSCALE:GREGORIAN
METHOD:PUBLISH
X-WR-CALNAME:Commune de Laconnex • Canton de Genève
X-ORIGINAL-URL:https://www.laconnex.ch
X-WR-CALDESC:Évènements pour Commune de Laconnex • Canton de Genève
REFRESH-INTERVAL;VALUE=DURATION:PT1H
X-Robots-Tag:noindex
X-PUBLISHED-TTL:PT1H
BEGIN:VTIMEZONE
TZID:Europe/Zurich
BEGIN:DAYLIGHT
TZOFFSETFROM:+0100
TZOFFSETTO:+0200
TZNAME:CEST
DTSTART:20150329T010000
END:DAYLIGHT
BEGIN:STANDARD
TZOFFSETFROM:+0200
TZOFFSETTO:+0100
TZNAME:CET
DTSTART:20151025T010000
END:STANDARD
END:VTIMEZONE
BEGIN:VEVENT
DTSTART;TZID=Europe/Zurich:20150725T190000
DTEND;TZID=Europe/Zurich:20150725T230000
DTSTAMP:20260420T064850
CREATED:20150413T094615Z
LAST-MODIFIED:20150608T094813Z
UID:10000079-1437850800-1437865200@www.laconnex.ch
SUMMARY:Un cinéma à Laconnex !
DESCRIPTION:Une Toile sous les étoiles présente Ciné-Laconnex\n \nOuverture à 19h00 – La Route du Coteau 10 – apéritif et repas \nProjection par l’association Road Movie à 21h40 (association pour la promotion du film suisse) \nCette manifestation est organisée et offerte par la commune de Laconnex
URL:https://www.laconnex.ch/rendez-vous/cinelaconnex/
LOCATION:Maison Benetti\, Route du Coteau 10\, Laconnex\, 1287\, Suisse
CATEGORIES:Manifestations
ATTACH;FMTTYPE=image/jpeg:https://www.laconnex.ch/2025/wp-content/uploads/les-petites-fugues.jpg
ORGANIZER;CN="Mairie de Laconnex":MAILTO:info@laconnex.ch
GEO:46.1547265;6.0366152
X-APPLE-STRUCTURED-LOCATION;VALUE=URI;X-ADDRESS=Maison Benetti Route du Coteau 10 Laconnex 1287 Suisse;X-APPLE-RADIUS=500;X-TITLE=Route du Coteau 10:geo:6.0366152,46.1547265
END:VEVENT
END:VCALENDAR