BEGIN:VCALENDAR
VERSION:2.0
PRODID:-//Commune de Laconnex • Canton de Genève - ECPv6.10.1.1//NONSGML v1.0//EN
CALSCALE:GREGORIAN
METHOD:PUBLISH
X-WR-CALNAME:Commune de Laconnex • Canton de Genève
X-ORIGINAL-URL:https://www.laconnex.ch
X-WR-CALDESC:Évènements pour Commune de Laconnex • Canton de Genève
REFRESH-INTERVAL;VALUE=DURATION:PT1H
X-Robots-Tag:noindex
X-PUBLISHED-TTL:PT1H
BEGIN:VTIMEZONE
TZID:Europe/Zurich
BEGIN:DAYLIGHT
TZOFFSETFROM:+0100
TZOFFSETTO:+0200
TZNAME:CEST
DTSTART:20200329T010000
END:DAYLIGHT
BEGIN:STANDARD
TZOFFSETFROM:+0200
TZOFFSETTO:+0100
TZNAME:CET
DTSTART:20201025T010000
END:STANDARD
END:VTIMEZONE
BEGIN:VEVENT
DTSTART;TZID=Europe/Zurich:20200705T100000
DTEND;TZID=Europe/Zurich:20200705T140000
DTSTAMP:20260420T211105
CREATED:20200128T142549Z
LAST-MODIFIED:20200611T114438Z
UID:10001255-1593943200-1593957600@www.laconnex.ch
SUMMARY:Marché - annulé !
DESCRIPTION:Pour toutes questions : Marc Dupraz mdupraz@hotmail.com
URL:https://www.laconnex.ch/rendez-vous/marche-5/2020-07-05/
LOCATION:Place de la Mairie\, Rue de la Maison-Forte 11\, Laconnex\, 1287\, Suisse
CATEGORIES:Marché
ATTACH;FMTTYPE=image/jpeg:https://www.laconnex.ch/2025/wp-content/uploads/Marché-de-Laconnex.jpg
GEO:46.1568937;6.0369514
X-APPLE-STRUCTURED-LOCATION;VALUE=URI;X-ADDRESS=Place de la Mairie Rue de la Maison-Forte 11 Laconnex 1287 Suisse;X-APPLE-RADIUS=500;X-TITLE=Rue de la Maison-Forte 11:geo:6.0369514,46.1568937
END:VEVENT
BEGIN:VEVENT
DTSTART;TZID=Europe/Zurich:20200704T100000
DTEND;TZID=Europe/Zurich:20200704T140000
DTSTAMP:20260420T211105
CREATED:20200128T142549Z
LAST-MODIFIED:20200611T114438Z
UID:10001254-1593856800-1593871200@www.laconnex.ch
SUMMARY:Marché - annulé !
DESCRIPTION:Pour toutes questions : Marc Dupraz mdupraz@hotmail.com
URL:https://www.laconnex.ch/rendez-vous/marche-5/2020-07-04/
LOCATION:Place de la Mairie\, Rue de la Maison-Forte 11\, Laconnex\, 1287\, Suisse
CATEGORIES:Marché
ATTACH;FMTTYPE=image/jpeg:https://www.laconnex.ch/2025/wp-content/uploads/Marché-de-Laconnex.jpg
GEO:46.1568937;6.0369514
X-APPLE-STRUCTURED-LOCATION;VALUE=URI;X-ADDRESS=Place de la Mairie Rue de la Maison-Forte 11 Laconnex 1287 Suisse;X-APPLE-RADIUS=500;X-TITLE=Rue de la Maison-Forte 11:geo:6.0369514,46.1568937
END:VEVENT
BEGIN:VEVENT
DTSTART;TZID=Europe/Zurich:20200703T100000
DTEND;TZID=Europe/Zurich:20200703T140000
DTSTAMP:20260420T211105
CREATED:20200128T142549Z
LAST-MODIFIED:20200611T114438Z
UID:10001253-1593770400-1593784800@www.laconnex.ch
SUMMARY:Marché - annulé !
DESCRIPTION:Pour toutes questions : Marc Dupraz mdupraz@hotmail.com
URL:https://www.laconnex.ch/rendez-vous/marche-5/2020-07-03/
LOCATION:Place de la Mairie\, Rue de la Maison-Forte 11\, Laconnex\, 1287\, Suisse
CATEGORIES:Marché
ATTACH;FMTTYPE=image/jpeg:https://www.laconnex.ch/2025/wp-content/uploads/Marché-de-Laconnex.jpg
GEO:46.1568937;6.0369514
X-APPLE-STRUCTURED-LOCATION;VALUE=URI;X-ADDRESS=Place de la Mairie Rue de la Maison-Forte 11 Laconnex 1287 Suisse;X-APPLE-RADIUS=500;X-TITLE=Rue de la Maison-Forte 11:geo:6.0369514,46.1568937
END:VEVENT
BEGIN:VEVENT
DTSTART;TZID=Europe/Zurich:20200702T100000
DTEND;TZID=Europe/Zurich:20200702T140000
DTSTAMP:20260420T211105
CREATED:20200128T142549Z
LAST-MODIFIED:20200611T114438Z
UID:10001252-1593684000-1593698400@www.laconnex.ch
SUMMARY:Marché - annulé !
DESCRIPTION:Pour toutes questions : Marc Dupraz mdupraz@hotmail.com
URL:https://www.laconnex.ch/rendez-vous/marche-5/2020-07-02/
LOCATION:Place de la Mairie\, Rue de la Maison-Forte 11\, Laconnex\, 1287\, Suisse
CATEGORIES:Marché
ATTACH;FMTTYPE=image/jpeg:https://www.laconnex.ch/2025/wp-content/uploads/Marché-de-Laconnex.jpg
GEO:46.1568937;6.0369514
X-APPLE-STRUCTURED-LOCATION;VALUE=URI;X-ADDRESS=Place de la Mairie Rue de la Maison-Forte 11 Laconnex 1287 Suisse;X-APPLE-RADIUS=500;X-TITLE=Rue de la Maison-Forte 11:geo:6.0369514,46.1568937
END:VEVENT
BEGIN:VEVENT
DTSTART;TZID=Europe/Zurich:20200701T100000
DTEND;TZID=Europe/Zurich:20200701T140000
DTSTAMP:20260420T211105
CREATED:20200128T142549Z
LAST-MODIFIED:20200611T114438Z
UID:10001251-1593597600-1593612000@www.laconnex.ch
SUMMARY:Marché - annulé !
DESCRIPTION:Pour toutes questions : Marc Dupraz mdupraz@hotmail.com
URL:https://www.laconnex.ch/rendez-vous/marche-5/2020-07-01/
LOCATION:Place de la Mairie\, Rue de la Maison-Forte 11\, Laconnex\, 1287\, Suisse
CATEGORIES:Marché
ATTACH;FMTTYPE=image/jpeg:https://www.laconnex.ch/2025/wp-content/uploads/Marché-de-Laconnex.jpg
GEO:46.1568937;6.0369514
X-APPLE-STRUCTURED-LOCATION;VALUE=URI;X-ADDRESS=Place de la Mairie Rue de la Maison-Forte 11 Laconnex 1287 Suisse;X-APPLE-RADIUS=500;X-TITLE=Rue de la Maison-Forte 11:geo:6.0369514,46.1568937
END:VEVENT
BEGIN:VEVENT
DTSTART;TZID=Europe/Zurich:20200630T100000
DTEND;TZID=Europe/Zurich:20200630T140000
DTSTAMP:20260420T211105
CREATED:20200128T142549Z
LAST-MODIFIED:20200611T114438Z
UID:10001250-1593511200-1593525600@www.laconnex.ch
SUMMARY:Marché - annulé !
DESCRIPTION:Pour toutes questions : Marc Dupraz mdupraz@hotmail.com
URL:https://www.laconnex.ch/rendez-vous/marche-5/2020-06-30/
LOCATION:Place de la Mairie\, Rue de la Maison-Forte 11\, Laconnex\, 1287\, Suisse
CATEGORIES:Marché
ATTACH;FMTTYPE=image/jpeg:https://www.laconnex.ch/2025/wp-content/uploads/Marché-de-Laconnex.jpg
GEO:46.1568937;6.0369514
X-APPLE-STRUCTURED-LOCATION;VALUE=URI;X-ADDRESS=Place de la Mairie Rue de la Maison-Forte 11 Laconnex 1287 Suisse;X-APPLE-RADIUS=500;X-TITLE=Rue de la Maison-Forte 11:geo:6.0369514,46.1568937
END:VEVENT
BEGIN:VEVENT
DTSTART;TZID=Europe/Zurich:20200629T100000
DTEND;TZID=Europe/Zurich:20200629T140000
DTSTAMP:20260420T211105
CREATED:20200128T142549Z
LAST-MODIFIED:20200611T114438Z
UID:10001249-1593424800-1593439200@www.laconnex.ch
SUMMARY:Marché - annulé !
DESCRIPTION:Pour toutes questions : Marc Dupraz mdupraz@hotmail.com
URL:https://www.laconnex.ch/rendez-vous/marche-5/2020-06-29/
LOCATION:Place de la Mairie\, Rue de la Maison-Forte 11\, Laconnex\, 1287\, Suisse
CATEGORIES:Marché
ATTACH;FMTTYPE=image/jpeg:https://www.laconnex.ch/2025/wp-content/uploads/Marché-de-Laconnex.jpg
GEO:46.1568937;6.0369514
X-APPLE-STRUCTURED-LOCATION;VALUE=URI;X-ADDRESS=Place de la Mairie Rue de la Maison-Forte 11 Laconnex 1287 Suisse;X-APPLE-RADIUS=500;X-TITLE=Rue de la Maison-Forte 11:geo:6.0369514,46.1568937
END:VEVENT
BEGIN:VEVENT
DTSTART;TZID=Europe/Zurich:20200628T100000
DTEND;TZID=Europe/Zurich:20200628T140000
DTSTAMP:20260420T211105
CREATED:20200128T142549Z
LAST-MODIFIED:20200611T114438Z
UID:10001248-1593338400-1593352800@www.laconnex.ch
SUMMARY:Marché - annulé !
DESCRIPTION:Pour toutes questions : Marc Dupraz mdupraz@hotmail.com
URL:https://www.laconnex.ch/rendez-vous/marche-5/2020-06-28/
LOCATION:Place de la Mairie\, Rue de la Maison-Forte 11\, Laconnex\, 1287\, Suisse
CATEGORIES:Marché
ATTACH;FMTTYPE=image/jpeg:https://www.laconnex.ch/2025/wp-content/uploads/Marché-de-Laconnex.jpg
GEO:46.1568937;6.0369514
X-APPLE-STRUCTURED-LOCATION;VALUE=URI;X-ADDRESS=Place de la Mairie Rue de la Maison-Forte 11 Laconnex 1287 Suisse;X-APPLE-RADIUS=500;X-TITLE=Rue de la Maison-Forte 11:geo:6.0369514,46.1568937
END:VEVENT
BEGIN:VEVENT
DTSTART;TZID=Europe/Zurich:20200627T100000
DTEND;TZID=Europe/Zurich:20200627T140000
DTSTAMP:20260420T211105
CREATED:20200128T142549Z
LAST-MODIFIED:20200611T114438Z
UID:10001247-1593252000-1593266400@www.laconnex.ch
SUMMARY:Marché - annulé !
DESCRIPTION:Pour toutes questions : Marc Dupraz mdupraz@hotmail.com
URL:https://www.laconnex.ch/rendez-vous/marche-5/2020-06-27/
LOCATION:Place de la Mairie\, Rue de la Maison-Forte 11\, Laconnex\, 1287\, Suisse
CATEGORIES:Marché
ATTACH;FMTTYPE=image/jpeg:https://www.laconnex.ch/2025/wp-content/uploads/Marché-de-Laconnex.jpg
GEO:46.1568937;6.0369514
X-APPLE-STRUCTURED-LOCATION;VALUE=URI;X-ADDRESS=Place de la Mairie Rue de la Maison-Forte 11 Laconnex 1287 Suisse;X-APPLE-RADIUS=500;X-TITLE=Rue de la Maison-Forte 11:geo:6.0369514,46.1568937
END:VEVENT
BEGIN:VEVENT
DTSTART;TZID=Europe/Zurich:20200626T100000
DTEND;TZID=Europe/Zurich:20200626T140000
DTSTAMP:20260420T211105
CREATED:20200128T142549Z
LAST-MODIFIED:20200611T114438Z
UID:10001246-1593165600-1593180000@www.laconnex.ch
SUMMARY:Marché - annulé !
DESCRIPTION:Pour toutes questions : Marc Dupraz mdupraz@hotmail.com
URL:https://www.laconnex.ch/rendez-vous/marche-5/2020-06-26/
LOCATION:Place de la Mairie\, Rue de la Maison-Forte 11\, Laconnex\, 1287\, Suisse
CATEGORIES:Marché
ATTACH;FMTTYPE=image/jpeg:https://www.laconnex.ch/2025/wp-content/uploads/Marché-de-Laconnex.jpg
GEO:46.1568937;6.0369514
X-APPLE-STRUCTURED-LOCATION;VALUE=URI;X-ADDRESS=Place de la Mairie Rue de la Maison-Forte 11 Laconnex 1287 Suisse;X-APPLE-RADIUS=500;X-TITLE=Rue de la Maison-Forte 11:geo:6.0369514,46.1568937
END:VEVENT
BEGIN:VEVENT
DTSTART;TZID=Europe/Zurich:20200625T100000
DTEND;TZID=Europe/Zurich:20200625T140000
DTSTAMP:20260420T211105
CREATED:20200128T142549Z
LAST-MODIFIED:20200611T114438Z
UID:10001245-1593079200-1593093600@www.laconnex.ch
SUMMARY:Marché - annulé !
DESCRIPTION:Pour toutes questions : Marc Dupraz mdupraz@hotmail.com
URL:https://www.laconnex.ch/rendez-vous/marche-5/2020-06-25/
LOCATION:Place de la Mairie\, Rue de la Maison-Forte 11\, Laconnex\, 1287\, Suisse
CATEGORIES:Marché
ATTACH;FMTTYPE=image/jpeg:https://www.laconnex.ch/2025/wp-content/uploads/Marché-de-Laconnex.jpg
GEO:46.1568937;6.0369514
X-APPLE-STRUCTURED-LOCATION;VALUE=URI;X-ADDRESS=Place de la Mairie Rue de la Maison-Forte 11 Laconnex 1287 Suisse;X-APPLE-RADIUS=500;X-TITLE=Rue de la Maison-Forte 11:geo:6.0369514,46.1568937
END:VEVENT
BEGIN:VEVENT
DTSTART;TZID=Europe/Zurich:20200624T100000
DTEND;TZID=Europe/Zurich:20200624T140000
DTSTAMP:20260420T211105
CREATED:20200128T142549Z
LAST-MODIFIED:20200611T114438Z
UID:10001244-1592992800-1593007200@www.laconnex.ch
SUMMARY:Marché - annulé !
DESCRIPTION:Pour toutes questions : Marc Dupraz mdupraz@hotmail.com
URL:https://www.laconnex.ch/rendez-vous/marche-5/2020-06-24/
LOCATION:Place de la Mairie\, Rue de la Maison-Forte 11\, Laconnex\, 1287\, Suisse
CATEGORIES:Marché
ATTACH;FMTTYPE=image/jpeg:https://www.laconnex.ch/2025/wp-content/uploads/Marché-de-Laconnex.jpg
GEO:46.1568937;6.0369514
X-APPLE-STRUCTURED-LOCATION;VALUE=URI;X-ADDRESS=Place de la Mairie Rue de la Maison-Forte 11 Laconnex 1287 Suisse;X-APPLE-RADIUS=500;X-TITLE=Rue de la Maison-Forte 11:geo:6.0369514,46.1568937
END:VEVENT
BEGIN:VEVENT
DTSTART;TZID=Europe/Zurich:20200623T100000
DTEND;TZID=Europe/Zurich:20200623T140000
DTSTAMP:20260420T211105
CREATED:20200128T142549Z
LAST-MODIFIED:20200611T114438Z
UID:10001243-1592906400-1592920800@www.laconnex.ch
SUMMARY:Marché - annulé !
DESCRIPTION:Pour toutes questions : Marc Dupraz mdupraz@hotmail.com
URL:https://www.laconnex.ch/rendez-vous/marche-5/2020-06-23/
LOCATION:Place de la Mairie\, Rue de la Maison-Forte 11\, Laconnex\, 1287\, Suisse
CATEGORIES:Marché
ATTACH;FMTTYPE=image/jpeg:https://www.laconnex.ch/2025/wp-content/uploads/Marché-de-Laconnex.jpg
GEO:46.1568937;6.0369514
X-APPLE-STRUCTURED-LOCATION;VALUE=URI;X-ADDRESS=Place de la Mairie Rue de la Maison-Forte 11 Laconnex 1287 Suisse;X-APPLE-RADIUS=500;X-TITLE=Rue de la Maison-Forte 11:geo:6.0369514,46.1568937
END:VEVENT
BEGIN:VEVENT
DTSTART;TZID=Europe/Zurich:20200622T100000
DTEND;TZID=Europe/Zurich:20200622T140000
DTSTAMP:20260420T211105
CREATED:20200128T142549Z
LAST-MODIFIED:20200611T114438Z
UID:10001242-1592820000-1592834400@www.laconnex.ch
SUMMARY:Marché - annulé !
DESCRIPTION:Pour toutes questions : Marc Dupraz mdupraz@hotmail.com
URL:https://www.laconnex.ch/rendez-vous/marche-5/2020-06-22/
LOCATION:Place de la Mairie\, Rue de la Maison-Forte 11\, Laconnex\, 1287\, Suisse
CATEGORIES:Marché
ATTACH;FMTTYPE=image/jpeg:https://www.laconnex.ch/2025/wp-content/uploads/Marché-de-Laconnex.jpg
GEO:46.1568937;6.0369514
X-APPLE-STRUCTURED-LOCATION;VALUE=URI;X-ADDRESS=Place de la Mairie Rue de la Maison-Forte 11 Laconnex 1287 Suisse;X-APPLE-RADIUS=500;X-TITLE=Rue de la Maison-Forte 11:geo:6.0369514,46.1568937
END:VEVENT
BEGIN:VEVENT
DTSTART;TZID=Europe/Zurich:20200621T100000
DTEND;TZID=Europe/Zurich:20200621T140000
DTSTAMP:20260420T211105
CREATED:20200128T142549Z
LAST-MODIFIED:20200611T114438Z
UID:10001241-1592733600-1592748000@www.laconnex.ch
SUMMARY:Marché - annulé !
DESCRIPTION:Pour toutes questions : Marc Dupraz mdupraz@hotmail.com
URL:https://www.laconnex.ch/rendez-vous/marche-5/2020-06-21/
LOCATION:Place de la Mairie\, Rue de la Maison-Forte 11\, Laconnex\, 1287\, Suisse
CATEGORIES:Marché
ATTACH;FMTTYPE=image/jpeg:https://www.laconnex.ch/2025/wp-content/uploads/Marché-de-Laconnex.jpg
GEO:46.1568937;6.0369514
X-APPLE-STRUCTURED-LOCATION;VALUE=URI;X-ADDRESS=Place de la Mairie Rue de la Maison-Forte 11 Laconnex 1287 Suisse;X-APPLE-RADIUS=500;X-TITLE=Rue de la Maison-Forte 11:geo:6.0369514,46.1568937
END:VEVENT
BEGIN:VEVENT
DTSTART;TZID=Europe/Zurich:20200620T100000
DTEND;TZID=Europe/Zurich:20200620T140000
DTSTAMP:20260420T211105
CREATED:20200128T142549Z
LAST-MODIFIED:20200611T114438Z
UID:10001240-1592647200-1592661600@www.laconnex.ch
SUMMARY:Marché - annulé !
DESCRIPTION:Pour toutes questions : Marc Dupraz mdupraz@hotmail.com
URL:https://www.laconnex.ch/rendez-vous/marche-5/2020-06-20/
LOCATION:Place de la Mairie\, Rue de la Maison-Forte 11\, Laconnex\, 1287\, Suisse
CATEGORIES:Marché
ATTACH;FMTTYPE=image/jpeg:https://www.laconnex.ch/2025/wp-content/uploads/Marché-de-Laconnex.jpg
GEO:46.1568937;6.0369514
X-APPLE-STRUCTURED-LOCATION;VALUE=URI;X-ADDRESS=Place de la Mairie Rue de la Maison-Forte 11 Laconnex 1287 Suisse;X-APPLE-RADIUS=500;X-TITLE=Rue de la Maison-Forte 11:geo:6.0369514,46.1568937
END:VEVENT
BEGIN:VEVENT
DTSTART;TZID=Europe/Zurich:20200617T103000
DTEND;TZID=Europe/Zurich:20200617T123000
DTSTAMP:20260420T211105
CREATED:20191209T093821Z
LAST-MODIFIED:20200528T114101Z
UID:10004409-1592389800-1592397000@www.laconnex.ch
SUMMARY:Bibliobus - Annulé en raison du COVID-19
DESCRIPTION: \nPour toutes informations
URL:https://www.laconnex.ch/rendez-vous/bibliobus-63/
LOCATION:Préau école de Laconnex\, Chemin des Quarts 2\, Laconnex\, 1287
CATEGORIES:Bibliobus
ATTACH;FMTTYPE=image/jpeg:https://www.laconnex.ch/2025/wp-content/uploads/Bibliobus.jpg
ORGANIZER;CN="Mairie de Laconnex":MAILTO:info@laconnex.ch
GEO:46.1545605;6.0388887
X-APPLE-STRUCTURED-LOCATION;VALUE=URI;X-ADDRESS=Préau école de Laconnex Chemin des Quarts 2 Laconnex 1287;X-APPLE-RADIUS=500;X-TITLE=Chemin des Quarts 2:geo:6.0388887,46.1545605
END:VEVENT
BEGIN:VEVENT
DTSTART;TZID=Europe/Zurich:20200616T060000
DTEND;TZID=Europe/Zurich:20200616T120000
DTSTAMP:20260420T211105
CREATED:20200518T070416Z
LAST-MODIFIED:20200518T070416Z
UID:10007282-1592287200-1592308800@www.laconnex.ch
SUMMARY:Levée de ferraille
DESCRIPTION:Merci de déposer vos encombrants la veille au soir.
URL:https://www.laconnex.ch/rendez-vous/levee-de-ferraille-21/
LOCATION:Tout le village\, Laconnex\, 1287
CATEGORIES:Ferraille
ATTACH;FMTTYPE=image/jpeg:https://www.laconnex.ch/2025/wp-content/uploads/ferraille.jpg
ORGANIZER;CN="Mairie de Laconnex":MAILTO:info@laconnex.ch
GEO:46.1601438;6.0367737
END:VEVENT
BEGIN:VEVENT
DTSTART;TZID=Europe/Zurich:20200615T190000
DTEND;TZID=Europe/Zurich:20200615T210000
DTSTAMP:20260420T211105
CREATED:20200128T134410Z
LAST-MODIFIED:20200515T143609Z
UID:10002346-1592247600-1592254800@www.laconnex.ch
SUMMARY:Conseil municipal
DESCRIPTION:
URL:https://www.laconnex.ch/rendez-vous/conseil-municipal-51/
LOCATION:Mairie de Laconnex\, Rue de la Maison-Forte 11\, Laconnex\, 1287
CATEGORIES:Politique
ORGANIZER;CN="Mairie de Laconnex":MAILTO:info@laconnex.ch
GEO:46.1568937;6.0369514
X-APPLE-STRUCTURED-LOCATION;VALUE=URI;X-ADDRESS=Mairie de Laconnex Rue de la Maison-Forte 11 Laconnex 1287;X-APPLE-RADIUS=500;X-TITLE=Rue de la Maison-Forte 11:geo:6.0369514,46.1568937
END:VEVENT
BEGIN:VEVENT
DTSTART;TZID=Europe/Zurich:20200602T190000
DTEND;TZID=Europe/Zurich:20200602T210000
DTSTAMP:20260420T211105
CREATED:20200128T134548Z
LAST-MODIFIED:20200515T143609Z
UID:10002348-1591124400-1591131600@www.laconnex.ch
SUMMARY:Conseil municipal
DESCRIPTION:
URL:https://www.laconnex.ch/rendez-vous/conseil-municipal-52/
LOCATION:Mairie de Laconnex\, Rue de la Maison-Forte 11\, Laconnex\, 1287
CATEGORIES:Politique
ORGANIZER;CN="Mairie de Laconnex":MAILTO:info@laconnex.ch
GEO:46.1568937;6.0369514
X-APPLE-STRUCTURED-LOCATION;VALUE=URI;X-ADDRESS=Mairie de Laconnex Rue de la Maison-Forte 11 Laconnex 1287;X-APPLE-RADIUS=500;X-TITLE=Rue de la Maison-Forte 11:geo:6.0369514,46.1568937
END:VEVENT
BEGIN:VEVENT
DTSTART;TZID=Europe/Zurich:20200520T103000
DTEND;TZID=Europe/Zurich:20200520T123000
DTSTAMP:20260420T211105
CREATED:20191209T094842Z
LAST-MODIFIED:20200515T143610Z
UID:10004418-1589970600-1589977800@www.laconnex.ch
SUMMARY:Bibliobus
DESCRIPTION: 
URL:https://www.laconnex.ch/rendez-vous/bibliobus-72/
LOCATION:Préau école de Laconnex\, Chemin des Quarts 2\, Laconnex\, 1287
CATEGORIES:Bibliobus
ATTACH;FMTTYPE=image/jpeg:https://www.laconnex.ch/2025/wp-content/uploads/Bibliobus.jpg
ORGANIZER;CN="Mairie de Laconnex":MAILTO:info@laconnex.ch
GEO:46.1545605;6.0388887
X-APPLE-STRUCTURED-LOCATION;VALUE=URI;X-ADDRESS=Préau école de Laconnex Chemin des Quarts 2 Laconnex 1287;X-APPLE-RADIUS=500;X-TITLE=Chemin des Quarts 2:geo:6.0388887,46.1545605
END:VEVENT
BEGIN:VEVENT
DTSTART;TZID=Europe/Zurich:20200516T100000
DTEND;TZID=Europe/Zurich:20200516T140000
DTSTAMP:20260420T211105
CREATED:20200128T141606Z
LAST-MODIFIED:20200515T143610Z
UID:10001232-1589623200-1589637600@www.laconnex.ch
SUMMARY:Marché
DESCRIPTION:Pour toutes questions : Marc Dupraz mdupraz@hotmail.com
URL:https://www.laconnex.ch/rendez-vous/marche-4/
LOCATION:Place de la Mairie\, Rue de la Maison-Forte 11\, Laconnex\, 1287\, Suisse
CATEGORIES:Marché
ATTACH;FMTTYPE=image/jpeg:https://www.laconnex.ch/2025/wp-content/uploads/Marché-de-Laconnex.jpg
GEO:46.1568937;6.0369514
X-APPLE-STRUCTURED-LOCATION;VALUE=URI;X-ADDRESS=Place de la Mairie Rue de la Maison-Forte 11 Laconnex 1287 Suisse;X-APPLE-RADIUS=500;X-TITLE=Rue de la Maison-Forte 11:geo:6.0369514,46.1568937
END:VEVENT
BEGIN:VEVENT
DTSTART;VALUE=DATE:20200511
DTEND;VALUE=DATE:20200512
DTSTAMP:20260420T211105
CREATED:20200505T170829Z
LAST-MODIFIED:20200510T173434Z
UID:10007280-1589155200-1589241599@www.laconnex.ch
SUMMARY:Coronavirus: assouplissement des mesures
DESCRIPTION:Se référer à cette page du portail du gouvernement suisse et du conseil fédéral.
URL:https://www.laconnex.ch/rendez-vous/coronavirus-assouplissement-des-mesures/
CATEGORIES:Politique
ATTACH;FMTTYPE=image/jpeg:https://www.laconnex.ch/2025/wp-content/uploads/Déconfinement-en-Suisse.jpg
END:VEVENT
BEGIN:VEVENT
DTSTART;TZID=Europe/Zurich:20200401T183000
DTEND;TZID=Europe/Zurich:20200408T203000
DTSTAMP:20260420T211105
CREATED:20200227T075028Z
LAST-MODIFIED:20200319T073436Z
UID:10006357-1585765800-1586377800@www.laconnex.ch
SUMMARY:Pré-inscription au jardin d'enfants - par mail uniquement
DESCRIPTION:Toutes les informations \nFormulaire d’inscription les enfants de la feuillee
URL:https://www.laconnex.ch/rendez-vous/pre-inscription-au-jardin-denfants/
LOCATION:Jardin d’enfants\, chemin des Quarts 2\, Laconnex\, 1287\, Switzerland
ATTACH;FMTTYPE=image/jpeg:https://www.laconnex.ch/2025/wp-content/uploads/La-Feuillée.jpg
GEO:46.1545605;6.0388887
X-APPLE-STRUCTURED-LOCATION;VALUE=URI;X-ADDRESS=Jardin d’enfants chemin des Quarts 2 Laconnex 1287 Switzerland;X-APPLE-RADIUS=500;X-TITLE=chemin des Quarts 2:geo:6.0388887,46.1545605
END:VEVENT
BEGIN:VEVENT
DTSTART;TZID=Europe/Zurich:20200328T190000
DTEND;TZID=Europe/Zurich:20200328T230000
DTSTAMP:20260420T211107
CREATED:20200128T150729Z
LAST-MODIFIED:20200316T081742Z
UID:10006354-1585422000-1585436400@www.laconnex.ch
SUMMARY:Improvisation théâtrale - annulé
DESCRIPTION:Face à l’évolution de la situation sanitaire du pays\, les décisions et les recommandations de\nl’OFSP et du médecin cantonal sont appliquées. La stratégie des autorités sanitaires vise à\nprotéger les personnes les plus vulnérables et à préserver les systèmes de santé. C’est pourquoi\, cet événement a été annulé.
URL:https://www.laconnex.ch/rendez-vous/improvisation-theatrale/
LOCATION:Salle communale\, Chemin des Quarts 2\, Laconnex\, 1287\, Switzerland
CATEGORIES:Manifestations
ATTACH;FMTTYPE=image/jpeg:https://www.laconnex.ch/2025/wp-content/uploads/theatre-e1494504065876.jpg
ORGANIZER;CN="Mairie de Laconnex":MAILTO:info@laconnex.ch
GEO:46.1545605;6.0388887
X-APPLE-STRUCTURED-LOCATION;VALUE=URI;X-ADDRESS=Salle communale Chemin des Quarts 2 Laconnex 1287 Switzerland;X-APPLE-RADIUS=500;X-TITLE=Chemin des Quarts 2:geo:6.0388887,46.1545605
END:VEVENT
BEGIN:VEVENT
DTSTART;TZID=Europe/Zurich:20200325T103000
DTEND;TZID=Europe/Zurich:20200325T123000
DTSTAMP:20260420T211107
CREATED:20191209T094726Z
LAST-MODIFIED:20200319T073802Z
UID:10004417-1585132200-1585139400@www.laconnex.ch
SUMMARY:Bibliobus - annulé
DESCRIPTION: 
URL:https://www.laconnex.ch/rendez-vous/bibliobus-71/
LOCATION:Préau école de Laconnex\, Chemin des Quarts 2\, Laconnex\, 1287
CATEGORIES:Bibliobus
ATTACH;FMTTYPE=image/jpeg:https://www.laconnex.ch/2025/wp-content/uploads/Bibliobus.jpg
ORGANIZER;CN="Mairie de Laconnex":MAILTO:info@laconnex.ch
GEO:46.1545605;6.0388887
X-APPLE-STRUCTURED-LOCATION;VALUE=URI;X-ADDRESS=Préau école de Laconnex Chemin des Quarts 2 Laconnex 1287;X-APPLE-RADIUS=500;X-TITLE=Chemin des Quarts 2:geo:6.0388887,46.1545605
END:VEVENT
BEGIN:VEVENT
DTSTART;TZID=Europe/Zurich:20200321T100000
DTEND;TZID=Europe/Zurich:20200321T140000
DTSTAMP:20260420T211107
CREATED:20200128T141504Z
LAST-MODIFIED:20200316T080715Z
UID:10001231-1584784800-1584799200@www.laconnex.ch
SUMMARY:Marché - Annulé
DESCRIPTION:Face à l’évolution de la situation sanitaire du pays\, les décisions et les recommandations de\nl’OFSP et du médecin cantonal sont appliquées. La stratégie des autorités sanitaires vise à\nprotéger les personnes les plus vulnérables et à préserver les systèmes de santé. C’est pourquoi\, cet événement a été annulé.\n \nPour toutes questions : Marc Dupraz mdupraz@hotmail.com
URL:https://www.laconnex.ch/rendez-vous/marche-2/
LOCATION:Place de la Mairie\, Rue de la Maison-Forte 11\, Laconnex\, 1287\, Suisse
CATEGORIES:Marché
ATTACH;FMTTYPE=image/jpeg:https://www.laconnex.ch/2025/wp-content/uploads/Marché-de-Laconnex.jpg
GEO:46.1568937;6.0369514
X-APPLE-STRUCTURED-LOCATION;VALUE=URI;X-ADDRESS=Place de la Mairie Rue de la Maison-Forte 11 Laconnex 1287 Suisse;X-APPLE-RADIUS=500;X-TITLE=Rue de la Maison-Forte 11:geo:6.0369514,46.1568937
END:VEVENT
BEGIN:VEVENT
DTSTART;TZID=Europe/Zurich:20200315T080000
DTEND;TZID=Europe/Zurich:20200315T120000
DTSTAMP:20260420T211107
CREATED:20191128T101711Z
LAST-MODIFIED:20200128T134832Z
UID:10002461-1584259200-1584273600@www.laconnex.ch
SUMMARY:Élection du conseil municipal
DESCRIPTION:
URL:https://www.laconnex.ch/rendez-vous/election-du-conseil-municipal-et-premier-tour-de-lelection-de-lexecutif-communal/
LOCATION:Mairie de Laconnex\, Rue de la Maison-Forte 11\, Laconnex\, 1287
CATEGORIES:Politique
GEO:46.1568937;6.0369514
X-APPLE-STRUCTURED-LOCATION;VALUE=URI;X-ADDRESS=Mairie de Laconnex Rue de la Maison-Forte 11 Laconnex 1287;X-APPLE-RADIUS=500;X-TITLE=Rue de la Maison-Forte 11:geo:6.0369514,46.1568937
END:VEVENT
BEGIN:VEVENT
DTSTART;TZID=Europe/Zurich:20200313T193000
DTEND;TZID=Europe/Zurich:20200313T230000
DTSTAMP:20260420T211107
CREATED:20200220T101345Z
LAST-MODIFIED:20200303T100211Z
UID:10006356-1584127800-1584140400@www.laconnex.ch
SUMMARY:ANNULATION - 18e Festival du film et forum international sur les droits humains
DESCRIPTION:En raison de la prévention de l’épidémie de covid-19\, cet événement a été annulé.
URL:https://www.laconnex.ch/rendez-vous/18e-festival-du-film-et-forum-international-sur-les-droits-humains/
LOCATION:Salle polyvalente d’Athenaz\, 35 route d'Athenaz\, Athenaz\, 1285\, Suisse
CATEGORIES:Manifestations
ATTACH;FMTTYPE=image/png:https://www.laconnex.ch/2025/wp-content/uploads/FIFDH.png
GEO:46.1550643;6.003817
X-APPLE-STRUCTURED-LOCATION;VALUE=URI;X-ADDRESS=Salle polyvalente d’Athenaz 35 route d'Athenaz Athenaz 1285 Suisse;X-APPLE-RADIUS=500;X-TITLE=35 route d'Athenaz:geo:6.003817,46.1550643
END:VEVENT
BEGIN:VEVENT
DTSTART;TZID=Europe/Zurich:20200309T190000
DTEND;TZID=Europe/Zurich:20200309T210000
DTSTAMP:20260420T211107
CREATED:20200128T095048Z
LAST-MODIFIED:20200128T095103Z
UID:10002353-1583780400-1583787600@www.laconnex.ch
SUMMARY:Conseil municipal
DESCRIPTION:
URL:https://www.laconnex.ch/rendez-vous/conseil-municipal-49/
LOCATION:Mairie de Laconnex\, Rue de la Maison-Forte 11\, Laconnex\, 1287
CATEGORIES:Politique
ORGANIZER;CN="Mairie de Laconnex":MAILTO:info@laconnex.ch
GEO:46.1568937;6.0369514
X-APPLE-STRUCTURED-LOCATION;VALUE=URI;X-ADDRESS=Mairie de Laconnex Rue de la Maison-Forte 11 Laconnex 1287;X-APPLE-RADIUS=500;X-TITLE=Rue de la Maison-Forte 11:geo:6.0369514,46.1568937
END:VEVENT
END:VCALENDAR