BEGIN:VCALENDAR
VERSION:2.0
PRODID:-//Commune de Laconnex • Canton de Genève - ECPv6.10.1.1//NONSGML v1.0//EN
CALSCALE:GREGORIAN
METHOD:PUBLISH
X-ORIGINAL-URL:https://www.laconnex.ch
X-WR-CALDESC:Évènements pour Commune de Laconnex • Canton de Genève
REFRESH-INTERVAL;VALUE=DURATION:PT1H
X-Robots-Tag:noindex
X-PUBLISHED-TTL:PT1H
BEGIN:VTIMEZONE
TZID:Europe/Zurich
BEGIN:DAYLIGHT
TZOFFSETFROM:+0100
TZOFFSETTO:+0200
TZNAME:CEST
DTSTART:20230326T010000
END:DAYLIGHT
BEGIN:STANDARD
TZOFFSETFROM:+0200
TZOFFSETTO:+0100
TZNAME:CET
DTSTART:20231029T010000
END:STANDARD
END:VTIMEZONE
BEGIN:VEVENT
DTSTART;TZID=Europe/Zurich:20230211T080000
DTEND;TZID=Europe/Zurich:20230211T120000
DTSTAMP:20260423T040251
CREATED:20191128T102049Z
LAST-MODIFIED:20200817T144422Z
UID:10003266-1676102400-1676116800@www.laconnex.ch
SUMMARY:Votation populaire
DESCRIPTION:
URL:https://www.laconnex.ch/rendez-vous/votation-populaire-8/2023-02-11/
LOCATION:Mairie de Laconnex\, Rue de la Maison-Forte 11\, Laconnex\, 1287
CATEGORIES:Politique
ATTACH;FMTTYPE=image/jpeg:https://www.laconnex.ch/2025/wp-content/uploads/vote.jpg
GEO:46.1568937;6.0369514
X-APPLE-STRUCTURED-LOCATION;VALUE=URI;X-ADDRESS=Mairie de Laconnex Rue de la Maison-Forte 11 Laconnex 1287;X-APPLE-RADIUS=500;X-TITLE=Rue de la Maison-Forte 11:geo:6.0369514,46.1568937
END:VEVENT
BEGIN:VEVENT
DTSTART;TZID=Europe/Zurich:20230211T080000
DTEND;TZID=Europe/Zurich:20230211T120000
DTSTAMP:20260423T040251
CREATED:20191128T102002Z
LAST-MODIFIED:20200817T144403Z
UID:10004271-1676102400-1676116800@www.laconnex.ch
SUMMARY:Votation populaire
DESCRIPTION:
URL:https://www.laconnex.ch/rendez-vous/votation-populaire-7/2023-02-11/
LOCATION:Mairie de Laconnex\, Rue de la Maison-Forte 11\, Laconnex\, 1287
CATEGORIES:Politique
ATTACH;FMTTYPE=image/jpeg:https://www.laconnex.ch/2025/wp-content/uploads/vote.jpg
GEO:46.1568937;6.0369514
X-APPLE-STRUCTURED-LOCATION;VALUE=URI;X-ADDRESS=Mairie de Laconnex Rue de la Maison-Forte 11 Laconnex 1287;X-APPLE-RADIUS=500;X-TITLE=Rue de la Maison-Forte 11:geo:6.0369514,46.1568937
END:VEVENT
BEGIN:VEVENT
DTSTART;TZID=Europe/Zurich:20230210T080000
DTEND;TZID=Europe/Zurich:20230210T120000
DTSTAMP:20260423T040251
CREATED:20191128T102049Z
LAST-MODIFIED:20200817T144422Z
UID:10003265-1676016000-1676030400@www.laconnex.ch
SUMMARY:Votation populaire
DESCRIPTION:
URL:https://www.laconnex.ch/rendez-vous/votation-populaire-8/2023-02-10/
LOCATION:Mairie de Laconnex\, Rue de la Maison-Forte 11\, Laconnex\, 1287
CATEGORIES:Politique
ATTACH;FMTTYPE=image/jpeg:https://www.laconnex.ch/2025/wp-content/uploads/vote.jpg
GEO:46.1568937;6.0369514
X-APPLE-STRUCTURED-LOCATION;VALUE=URI;X-ADDRESS=Mairie de Laconnex Rue de la Maison-Forte 11 Laconnex 1287;X-APPLE-RADIUS=500;X-TITLE=Rue de la Maison-Forte 11:geo:6.0369514,46.1568937
END:VEVENT
BEGIN:VEVENT
DTSTART;TZID=Europe/Zurich:20230210T080000
DTEND;TZID=Europe/Zurich:20230210T120000
DTSTAMP:20260423T040251
CREATED:20191128T102002Z
LAST-MODIFIED:20200817T144403Z
UID:10004270-1676016000-1676030400@www.laconnex.ch
SUMMARY:Votation populaire
DESCRIPTION:
URL:https://www.laconnex.ch/rendez-vous/votation-populaire-7/2023-02-10/
LOCATION:Mairie de Laconnex\, Rue de la Maison-Forte 11\, Laconnex\, 1287
CATEGORIES:Politique
ATTACH;FMTTYPE=image/jpeg:https://www.laconnex.ch/2025/wp-content/uploads/vote.jpg
GEO:46.1568937;6.0369514
X-APPLE-STRUCTURED-LOCATION;VALUE=URI;X-ADDRESS=Mairie de Laconnex Rue de la Maison-Forte 11 Laconnex 1287;X-APPLE-RADIUS=500;X-TITLE=Rue de la Maison-Forte 11:geo:6.0369514,46.1568937
END:VEVENT
BEGIN:VEVENT
DTSTART;TZID=Europe/Zurich:20230209T080000
DTEND;TZID=Europe/Zurich:20230209T120000
DTSTAMP:20260423T040251
CREATED:20191128T102049Z
LAST-MODIFIED:20200817T144422Z
UID:10003264-1675929600-1675944000@www.laconnex.ch
SUMMARY:Votation populaire
DESCRIPTION:
URL:https://www.laconnex.ch/rendez-vous/votation-populaire-8/2023-02-09/
LOCATION:Mairie de Laconnex\, Rue de la Maison-Forte 11\, Laconnex\, 1287
CATEGORIES:Politique
ATTACH;FMTTYPE=image/jpeg:https://www.laconnex.ch/2025/wp-content/uploads/vote.jpg
GEO:46.1568937;6.0369514
X-APPLE-STRUCTURED-LOCATION;VALUE=URI;X-ADDRESS=Mairie de Laconnex Rue de la Maison-Forte 11 Laconnex 1287;X-APPLE-RADIUS=500;X-TITLE=Rue de la Maison-Forte 11:geo:6.0369514,46.1568937
END:VEVENT
BEGIN:VEVENT
DTSTART;TZID=Europe/Zurich:20230209T080000
DTEND;TZID=Europe/Zurich:20230209T120000
DTSTAMP:20260423T040251
CREATED:20191128T102002Z
LAST-MODIFIED:20200817T144403Z
UID:10004269-1675929600-1675944000@www.laconnex.ch
SUMMARY:Votation populaire
DESCRIPTION:
URL:https://www.laconnex.ch/rendez-vous/votation-populaire-7/2023-02-09/
LOCATION:Mairie de Laconnex\, Rue de la Maison-Forte 11\, Laconnex\, 1287
CATEGORIES:Politique
ATTACH;FMTTYPE=image/jpeg:https://www.laconnex.ch/2025/wp-content/uploads/vote.jpg
GEO:46.1568937;6.0369514
X-APPLE-STRUCTURED-LOCATION;VALUE=URI;X-ADDRESS=Mairie de Laconnex Rue de la Maison-Forte 11 Laconnex 1287;X-APPLE-RADIUS=500;X-TITLE=Rue de la Maison-Forte 11:geo:6.0369514,46.1568937
END:VEVENT
BEGIN:VEVENT
DTSTART;TZID=Europe/Zurich:20230208T080000
DTEND;TZID=Europe/Zurich:20230208T120000
DTSTAMP:20260423T040251
CREATED:20191128T102049Z
LAST-MODIFIED:20200817T144422Z
UID:10003263-1675843200-1675857600@www.laconnex.ch
SUMMARY:Votation populaire
DESCRIPTION:
URL:https://www.laconnex.ch/rendez-vous/votation-populaire-8/2023-02-08/
LOCATION:Mairie de Laconnex\, Rue de la Maison-Forte 11\, Laconnex\, 1287
CATEGORIES:Politique
ATTACH;FMTTYPE=image/jpeg:https://www.laconnex.ch/2025/wp-content/uploads/vote.jpg
GEO:46.1568937;6.0369514
X-APPLE-STRUCTURED-LOCATION;VALUE=URI;X-ADDRESS=Mairie de Laconnex Rue de la Maison-Forte 11 Laconnex 1287;X-APPLE-RADIUS=500;X-TITLE=Rue de la Maison-Forte 11:geo:6.0369514,46.1568937
END:VEVENT
BEGIN:VEVENT
DTSTART;TZID=Europe/Zurich:20230208T080000
DTEND;TZID=Europe/Zurich:20230208T120000
DTSTAMP:20260423T040251
CREATED:20191128T102002Z
LAST-MODIFIED:20200817T144403Z
UID:10004268-1675843200-1675857600@www.laconnex.ch
SUMMARY:Votation populaire
DESCRIPTION:
URL:https://www.laconnex.ch/rendez-vous/votation-populaire-7/2023-02-08/
LOCATION:Mairie de Laconnex\, Rue de la Maison-Forte 11\, Laconnex\, 1287
CATEGORIES:Politique
ATTACH;FMTTYPE=image/jpeg:https://www.laconnex.ch/2025/wp-content/uploads/vote.jpg
GEO:46.1568937;6.0369514
X-APPLE-STRUCTURED-LOCATION;VALUE=URI;X-ADDRESS=Mairie de Laconnex Rue de la Maison-Forte 11 Laconnex 1287;X-APPLE-RADIUS=500;X-TITLE=Rue de la Maison-Forte 11:geo:6.0369514,46.1568937
END:VEVENT
BEGIN:VEVENT
DTSTART;TZID=Europe/Zurich:20230207T080000
DTEND;TZID=Europe/Zurich:20230207T120000
DTSTAMP:20260423T040251
CREATED:20191128T102049Z
LAST-MODIFIED:20200817T144422Z
UID:10003262-1675756800-1675771200@www.laconnex.ch
SUMMARY:Votation populaire
DESCRIPTION:
URL:https://www.laconnex.ch/rendez-vous/votation-populaire-8/2023-02-07/
LOCATION:Mairie de Laconnex\, Rue de la Maison-Forte 11\, Laconnex\, 1287
CATEGORIES:Politique
ATTACH;FMTTYPE=image/jpeg:https://www.laconnex.ch/2025/wp-content/uploads/vote.jpg
GEO:46.1568937;6.0369514
X-APPLE-STRUCTURED-LOCATION;VALUE=URI;X-ADDRESS=Mairie de Laconnex Rue de la Maison-Forte 11 Laconnex 1287;X-APPLE-RADIUS=500;X-TITLE=Rue de la Maison-Forte 11:geo:6.0369514,46.1568937
END:VEVENT
BEGIN:VEVENT
DTSTART;TZID=Europe/Zurich:20230207T080000
DTEND;TZID=Europe/Zurich:20230207T120000
DTSTAMP:20260423T040251
CREATED:20191128T102002Z
LAST-MODIFIED:20200817T144403Z
UID:10004267-1675756800-1675771200@www.laconnex.ch
SUMMARY:Votation populaire
DESCRIPTION:
URL:https://www.laconnex.ch/rendez-vous/votation-populaire-7/2023-02-07/
LOCATION:Mairie de Laconnex\, Rue de la Maison-Forte 11\, Laconnex\, 1287
CATEGORIES:Politique
ATTACH;FMTTYPE=image/jpeg:https://www.laconnex.ch/2025/wp-content/uploads/vote.jpg
GEO:46.1568937;6.0369514
X-APPLE-STRUCTURED-LOCATION;VALUE=URI;X-ADDRESS=Mairie de Laconnex Rue de la Maison-Forte 11 Laconnex 1287;X-APPLE-RADIUS=500;X-TITLE=Rue de la Maison-Forte 11:geo:6.0369514,46.1568937
END:VEVENT
BEGIN:VEVENT
DTSTART;TZID=Europe/Zurich:20230206T080000
DTEND;TZID=Europe/Zurich:20230206T120000
DTSTAMP:20260423T040251
CREATED:20191128T102049Z
LAST-MODIFIED:20200817T144422Z
UID:10003261-1675670400-1675684800@www.laconnex.ch
SUMMARY:Votation populaire
DESCRIPTION:
URL:https://www.laconnex.ch/rendez-vous/votation-populaire-8/2023-02-06/
LOCATION:Mairie de Laconnex\, Rue de la Maison-Forte 11\, Laconnex\, 1287
CATEGORIES:Politique
ATTACH;FMTTYPE=image/jpeg:https://www.laconnex.ch/2025/wp-content/uploads/vote.jpg
GEO:46.1568937;6.0369514
X-APPLE-STRUCTURED-LOCATION;VALUE=URI;X-ADDRESS=Mairie de Laconnex Rue de la Maison-Forte 11 Laconnex 1287;X-APPLE-RADIUS=500;X-TITLE=Rue de la Maison-Forte 11:geo:6.0369514,46.1568937
END:VEVENT
BEGIN:VEVENT
DTSTART;TZID=Europe/Zurich:20230206T080000
DTEND;TZID=Europe/Zurich:20230206T120000
DTSTAMP:20260423T040251
CREATED:20191128T102002Z
LAST-MODIFIED:20200817T144403Z
UID:10004266-1675670400-1675684800@www.laconnex.ch
SUMMARY:Votation populaire
DESCRIPTION:
URL:https://www.laconnex.ch/rendez-vous/votation-populaire-7/2023-02-06/
LOCATION:Mairie de Laconnex\, Rue de la Maison-Forte 11\, Laconnex\, 1287
CATEGORIES:Politique
ATTACH;FMTTYPE=image/jpeg:https://www.laconnex.ch/2025/wp-content/uploads/vote.jpg
GEO:46.1568937;6.0369514
X-APPLE-STRUCTURED-LOCATION;VALUE=URI;X-ADDRESS=Mairie de Laconnex Rue de la Maison-Forte 11 Laconnex 1287;X-APPLE-RADIUS=500;X-TITLE=Rue de la Maison-Forte 11:geo:6.0369514,46.1568937
END:VEVENT
BEGIN:VEVENT
DTSTART;TZID=Europe/Zurich:20230205T080000
DTEND;TZID=Europe/Zurich:20230205T120000
DTSTAMP:20260423T040251
CREATED:20191128T102049Z
LAST-MODIFIED:20200817T144422Z
UID:10003260-1675584000-1675598400@www.laconnex.ch
SUMMARY:Votation populaire
DESCRIPTION:
URL:https://www.laconnex.ch/rendez-vous/votation-populaire-8/2023-02-05/
LOCATION:Mairie de Laconnex\, Rue de la Maison-Forte 11\, Laconnex\, 1287
CATEGORIES:Politique
ATTACH;FMTTYPE=image/jpeg:https://www.laconnex.ch/2025/wp-content/uploads/vote.jpg
GEO:46.1568937;6.0369514
X-APPLE-STRUCTURED-LOCATION;VALUE=URI;X-ADDRESS=Mairie de Laconnex Rue de la Maison-Forte 11 Laconnex 1287;X-APPLE-RADIUS=500;X-TITLE=Rue de la Maison-Forte 11:geo:6.0369514,46.1568937
END:VEVENT
BEGIN:VEVENT
DTSTART;TZID=Europe/Zurich:20230205T080000
DTEND;TZID=Europe/Zurich:20230205T120000
DTSTAMP:20260423T040251
CREATED:20191128T102002Z
LAST-MODIFIED:20200817T144403Z
UID:10004265-1675584000-1675598400@www.laconnex.ch
SUMMARY:Votation populaire
DESCRIPTION:
URL:https://www.laconnex.ch/rendez-vous/votation-populaire-7/2023-02-05/
LOCATION:Mairie de Laconnex\, Rue de la Maison-Forte 11\, Laconnex\, 1287
CATEGORIES:Politique
ATTACH;FMTTYPE=image/jpeg:https://www.laconnex.ch/2025/wp-content/uploads/vote.jpg
GEO:46.1568937;6.0369514
X-APPLE-STRUCTURED-LOCATION;VALUE=URI;X-ADDRESS=Mairie de Laconnex Rue de la Maison-Forte 11 Laconnex 1287;X-APPLE-RADIUS=500;X-TITLE=Rue de la Maison-Forte 11:geo:6.0369514,46.1568937
END:VEVENT
BEGIN:VEVENT
DTSTART;TZID=Europe/Zurich:20230204T080000
DTEND;TZID=Europe/Zurich:20230204T120000
DTSTAMP:20260423T040251
CREATED:20191128T102049Z
LAST-MODIFIED:20200817T144422Z
UID:10003259-1675497600-1675512000@www.laconnex.ch
SUMMARY:Votation populaire
DESCRIPTION:
URL:https://www.laconnex.ch/rendez-vous/votation-populaire-8/2023-02-04/
LOCATION:Mairie de Laconnex\, Rue de la Maison-Forte 11\, Laconnex\, 1287
CATEGORIES:Politique
ATTACH;FMTTYPE=image/jpeg:https://www.laconnex.ch/2025/wp-content/uploads/vote.jpg
GEO:46.1568937;6.0369514
X-APPLE-STRUCTURED-LOCATION;VALUE=URI;X-ADDRESS=Mairie de Laconnex Rue de la Maison-Forte 11 Laconnex 1287;X-APPLE-RADIUS=500;X-TITLE=Rue de la Maison-Forte 11:geo:6.0369514,46.1568937
END:VEVENT
BEGIN:VEVENT
DTSTART;TZID=Europe/Zurich:20230204T080000
DTEND;TZID=Europe/Zurich:20230204T120000
DTSTAMP:20260423T040251
CREATED:20191128T102002Z
LAST-MODIFIED:20200817T144403Z
UID:10004264-1675497600-1675512000@www.laconnex.ch
SUMMARY:Votation populaire
DESCRIPTION:
URL:https://www.laconnex.ch/rendez-vous/votation-populaire-7/2023-02-04/
LOCATION:Mairie de Laconnex\, Rue de la Maison-Forte 11\, Laconnex\, 1287
CATEGORIES:Politique
ATTACH;FMTTYPE=image/jpeg:https://www.laconnex.ch/2025/wp-content/uploads/vote.jpg
GEO:46.1568937;6.0369514
X-APPLE-STRUCTURED-LOCATION;VALUE=URI;X-ADDRESS=Mairie de Laconnex Rue de la Maison-Forte 11 Laconnex 1287;X-APPLE-RADIUS=500;X-TITLE=Rue de la Maison-Forte 11:geo:6.0369514,46.1568937
END:VEVENT
BEGIN:VEVENT
DTSTART;TZID=Europe/Zurich:20230203T080000
DTEND;TZID=Europe/Zurich:20230203T120000
DTSTAMP:20260423T040251
CREATED:20191128T102049Z
LAST-MODIFIED:20200817T144422Z
UID:10003258-1675411200-1675425600@www.laconnex.ch
SUMMARY:Votation populaire
DESCRIPTION:
URL:https://www.laconnex.ch/rendez-vous/votation-populaire-8/2023-02-03/
LOCATION:Mairie de Laconnex\, Rue de la Maison-Forte 11\, Laconnex\, 1287
CATEGORIES:Politique
ATTACH;FMTTYPE=image/jpeg:https://www.laconnex.ch/2025/wp-content/uploads/vote.jpg
GEO:46.1568937;6.0369514
X-APPLE-STRUCTURED-LOCATION;VALUE=URI;X-ADDRESS=Mairie de Laconnex Rue de la Maison-Forte 11 Laconnex 1287;X-APPLE-RADIUS=500;X-TITLE=Rue de la Maison-Forte 11:geo:6.0369514,46.1568937
END:VEVENT
BEGIN:VEVENT
DTSTART;TZID=Europe/Zurich:20230203T080000
DTEND;TZID=Europe/Zurich:20230203T120000
DTSTAMP:20260423T040251
CREATED:20191128T102002Z
LAST-MODIFIED:20200817T144403Z
UID:10004263-1675411200-1675425600@www.laconnex.ch
SUMMARY:Votation populaire
DESCRIPTION:
URL:https://www.laconnex.ch/rendez-vous/votation-populaire-7/2023-02-03/
LOCATION:Mairie de Laconnex\, Rue de la Maison-Forte 11\, Laconnex\, 1287
CATEGORIES:Politique
ATTACH;FMTTYPE=image/jpeg:https://www.laconnex.ch/2025/wp-content/uploads/vote.jpg
GEO:46.1568937;6.0369514
X-APPLE-STRUCTURED-LOCATION;VALUE=URI;X-ADDRESS=Mairie de Laconnex Rue de la Maison-Forte 11 Laconnex 1287;X-APPLE-RADIUS=500;X-TITLE=Rue de la Maison-Forte 11:geo:6.0369514,46.1568937
END:VEVENT
BEGIN:VEVENT
DTSTART;TZID=Europe/Zurich:20230202T080000
DTEND;TZID=Europe/Zurich:20230202T120000
DTSTAMP:20260423T040251
CREATED:20191128T102049Z
LAST-MODIFIED:20200817T144422Z
UID:10003257-1675324800-1675339200@www.laconnex.ch
SUMMARY:Votation populaire
DESCRIPTION:
URL:https://www.laconnex.ch/rendez-vous/votation-populaire-8/2023-02-02/
LOCATION:Mairie de Laconnex\, Rue de la Maison-Forte 11\, Laconnex\, 1287
CATEGORIES:Politique
ATTACH;FMTTYPE=image/jpeg:https://www.laconnex.ch/2025/wp-content/uploads/vote.jpg
GEO:46.1568937;6.0369514
X-APPLE-STRUCTURED-LOCATION;VALUE=URI;X-ADDRESS=Mairie de Laconnex Rue de la Maison-Forte 11 Laconnex 1287;X-APPLE-RADIUS=500;X-TITLE=Rue de la Maison-Forte 11:geo:6.0369514,46.1568937
END:VEVENT
BEGIN:VEVENT
DTSTART;TZID=Europe/Zurich:20230202T080000
DTEND;TZID=Europe/Zurich:20230202T120000
DTSTAMP:20260423T040251
CREATED:20191128T102002Z
LAST-MODIFIED:20200817T144403Z
UID:10004262-1675324800-1675339200@www.laconnex.ch
SUMMARY:Votation populaire
DESCRIPTION:
URL:https://www.laconnex.ch/rendez-vous/votation-populaire-7/2023-02-02/
LOCATION:Mairie de Laconnex\, Rue de la Maison-Forte 11\, Laconnex\, 1287
CATEGORIES:Politique
ATTACH;FMTTYPE=image/jpeg:https://www.laconnex.ch/2025/wp-content/uploads/vote.jpg
GEO:46.1568937;6.0369514
X-APPLE-STRUCTURED-LOCATION;VALUE=URI;X-ADDRESS=Mairie de Laconnex Rue de la Maison-Forte 11 Laconnex 1287;X-APPLE-RADIUS=500;X-TITLE=Rue de la Maison-Forte 11:geo:6.0369514,46.1568937
END:VEVENT
BEGIN:VEVENT
DTSTART;TZID=Europe/Zurich:20230201T080000
DTEND;TZID=Europe/Zurich:20230201T120000
DTSTAMP:20260423T040251
CREATED:20191128T102049Z
LAST-MODIFIED:20200817T144422Z
UID:10003256-1675238400-1675252800@www.laconnex.ch
SUMMARY:Votation populaire
DESCRIPTION:
URL:https://www.laconnex.ch/rendez-vous/votation-populaire-8/2023-02-01/
LOCATION:Mairie de Laconnex\, Rue de la Maison-Forte 11\, Laconnex\, 1287
CATEGORIES:Politique
ATTACH;FMTTYPE=image/jpeg:https://www.laconnex.ch/2025/wp-content/uploads/vote.jpg
GEO:46.1568937;6.0369514
X-APPLE-STRUCTURED-LOCATION;VALUE=URI;X-ADDRESS=Mairie de Laconnex Rue de la Maison-Forte 11 Laconnex 1287;X-APPLE-RADIUS=500;X-TITLE=Rue de la Maison-Forte 11:geo:6.0369514,46.1568937
END:VEVENT
BEGIN:VEVENT
DTSTART;TZID=Europe/Zurich:20230201T080000
DTEND;TZID=Europe/Zurich:20230201T120000
DTSTAMP:20260423T040251
CREATED:20191128T102002Z
LAST-MODIFIED:20200817T144403Z
UID:10004261-1675238400-1675252800@www.laconnex.ch
SUMMARY:Votation populaire
DESCRIPTION:
URL:https://www.laconnex.ch/rendez-vous/votation-populaire-7/2023-02-01/
LOCATION:Mairie de Laconnex\, Rue de la Maison-Forte 11\, Laconnex\, 1287
CATEGORIES:Politique
ATTACH;FMTTYPE=image/jpeg:https://www.laconnex.ch/2025/wp-content/uploads/vote.jpg
GEO:46.1568937;6.0369514
X-APPLE-STRUCTURED-LOCATION;VALUE=URI;X-ADDRESS=Mairie de Laconnex Rue de la Maison-Forte 11 Laconnex 1287;X-APPLE-RADIUS=500;X-TITLE=Rue de la Maison-Forte 11:geo:6.0369514,46.1568937
END:VEVENT
BEGIN:VEVENT
DTSTART;TZID=Europe/Zurich:20230131T080000
DTEND;TZID=Europe/Zurich:20230131T120000
DTSTAMP:20260423T040251
CREATED:20191128T102049Z
LAST-MODIFIED:20200817T144422Z
UID:10003255-1675152000-1675166400@www.laconnex.ch
SUMMARY:Votation populaire
DESCRIPTION:
URL:https://www.laconnex.ch/rendez-vous/votation-populaire-8/2023-01-31/
LOCATION:Mairie de Laconnex\, Rue de la Maison-Forte 11\, Laconnex\, 1287
CATEGORIES:Politique
ATTACH;FMTTYPE=image/jpeg:https://www.laconnex.ch/2025/wp-content/uploads/vote.jpg
GEO:46.1568937;6.0369514
X-APPLE-STRUCTURED-LOCATION;VALUE=URI;X-ADDRESS=Mairie de Laconnex Rue de la Maison-Forte 11 Laconnex 1287;X-APPLE-RADIUS=500;X-TITLE=Rue de la Maison-Forte 11:geo:6.0369514,46.1568937
END:VEVENT
BEGIN:VEVENT
DTSTART;TZID=Europe/Zurich:20230131T080000
DTEND;TZID=Europe/Zurich:20230131T120000
DTSTAMP:20260423T040251
CREATED:20191128T102002Z
LAST-MODIFIED:20200817T144403Z
UID:10004260-1675152000-1675166400@www.laconnex.ch
SUMMARY:Votation populaire
DESCRIPTION:
URL:https://www.laconnex.ch/rendez-vous/votation-populaire-7/2023-01-31/
LOCATION:Mairie de Laconnex\, Rue de la Maison-Forte 11\, Laconnex\, 1287
CATEGORIES:Politique
ATTACH;FMTTYPE=image/jpeg:https://www.laconnex.ch/2025/wp-content/uploads/vote.jpg
GEO:46.1568937;6.0369514
X-APPLE-STRUCTURED-LOCATION;VALUE=URI;X-ADDRESS=Mairie de Laconnex Rue de la Maison-Forte 11 Laconnex 1287;X-APPLE-RADIUS=500;X-TITLE=Rue de la Maison-Forte 11:geo:6.0369514,46.1568937
END:VEVENT
BEGIN:VEVENT
DTSTART;TZID=Europe/Zurich:20230130T080000
DTEND;TZID=Europe/Zurich:20230130T120000
DTSTAMP:20260423T040251
CREATED:20191128T102049Z
LAST-MODIFIED:20200817T144422Z
UID:10003254-1675065600-1675080000@www.laconnex.ch
SUMMARY:Votation populaire
DESCRIPTION:
URL:https://www.laconnex.ch/rendez-vous/votation-populaire-8/2023-01-30/
LOCATION:Mairie de Laconnex\, Rue de la Maison-Forte 11\, Laconnex\, 1287
CATEGORIES:Politique
ATTACH;FMTTYPE=image/jpeg:https://www.laconnex.ch/2025/wp-content/uploads/vote.jpg
GEO:46.1568937;6.0369514
X-APPLE-STRUCTURED-LOCATION;VALUE=URI;X-ADDRESS=Mairie de Laconnex Rue de la Maison-Forte 11 Laconnex 1287;X-APPLE-RADIUS=500;X-TITLE=Rue de la Maison-Forte 11:geo:6.0369514,46.1568937
END:VEVENT
BEGIN:VEVENT
DTSTART;TZID=Europe/Zurich:20230130T080000
DTEND;TZID=Europe/Zurich:20230130T120000
DTSTAMP:20260423T040251
CREATED:20191128T102002Z
LAST-MODIFIED:20200817T144403Z
UID:10004259-1675065600-1675080000@www.laconnex.ch
SUMMARY:Votation populaire
DESCRIPTION:
URL:https://www.laconnex.ch/rendez-vous/votation-populaire-7/2023-01-30/
LOCATION:Mairie de Laconnex\, Rue de la Maison-Forte 11\, Laconnex\, 1287
CATEGORIES:Politique
ATTACH;FMTTYPE=image/jpeg:https://www.laconnex.ch/2025/wp-content/uploads/vote.jpg
GEO:46.1568937;6.0369514
X-APPLE-STRUCTURED-LOCATION;VALUE=URI;X-ADDRESS=Mairie de Laconnex Rue de la Maison-Forte 11 Laconnex 1287;X-APPLE-RADIUS=500;X-TITLE=Rue de la Maison-Forte 11:geo:6.0369514,46.1568937
END:VEVENT
BEGIN:VEVENT
DTSTART;TZID=Europe/Zurich:20230129T080000
DTEND;TZID=Europe/Zurich:20230129T120000
DTSTAMP:20260423T040251
CREATED:20191128T102049Z
LAST-MODIFIED:20200817T144422Z
UID:10003253-1674979200-1674993600@www.laconnex.ch
SUMMARY:Votation populaire
DESCRIPTION:
URL:https://www.laconnex.ch/rendez-vous/votation-populaire-8/2023-01-29/
LOCATION:Mairie de Laconnex\, Rue de la Maison-Forte 11\, Laconnex\, 1287
CATEGORIES:Politique
ATTACH;FMTTYPE=image/jpeg:https://www.laconnex.ch/2025/wp-content/uploads/vote.jpg
GEO:46.1568937;6.0369514
X-APPLE-STRUCTURED-LOCATION;VALUE=URI;X-ADDRESS=Mairie de Laconnex Rue de la Maison-Forte 11 Laconnex 1287;X-APPLE-RADIUS=500;X-TITLE=Rue de la Maison-Forte 11:geo:6.0369514,46.1568937
END:VEVENT
BEGIN:VEVENT
DTSTART;TZID=Europe/Zurich:20230129T080000
DTEND;TZID=Europe/Zurich:20230129T120000
DTSTAMP:20260423T040251
CREATED:20191128T102002Z
LAST-MODIFIED:20200817T144403Z
UID:10004258-1674979200-1674993600@www.laconnex.ch
SUMMARY:Votation populaire
DESCRIPTION:
URL:https://www.laconnex.ch/rendez-vous/votation-populaire-7/2023-01-29/
LOCATION:Mairie de Laconnex\, Rue de la Maison-Forte 11\, Laconnex\, 1287
CATEGORIES:Politique
ATTACH;FMTTYPE=image/jpeg:https://www.laconnex.ch/2025/wp-content/uploads/vote.jpg
GEO:46.1568937;6.0369514
X-APPLE-STRUCTURED-LOCATION;VALUE=URI;X-ADDRESS=Mairie de Laconnex Rue de la Maison-Forte 11 Laconnex 1287;X-APPLE-RADIUS=500;X-TITLE=Rue de la Maison-Forte 11:geo:6.0369514,46.1568937
END:VEVENT
BEGIN:VEVENT
DTSTART;TZID=Europe/Zurich:20230128T080000
DTEND;TZID=Europe/Zurich:20230128T120000
DTSTAMP:20260423T040251
CREATED:20191128T102049Z
LAST-MODIFIED:20200817T144422Z
UID:10003252-1674892800-1674907200@www.laconnex.ch
SUMMARY:Votation populaire
DESCRIPTION:
URL:https://www.laconnex.ch/rendez-vous/votation-populaire-8/2023-01-28/
LOCATION:Mairie de Laconnex\, Rue de la Maison-Forte 11\, Laconnex\, 1287
CATEGORIES:Politique
ATTACH;FMTTYPE=image/jpeg:https://www.laconnex.ch/2025/wp-content/uploads/vote.jpg
GEO:46.1568937;6.0369514
X-APPLE-STRUCTURED-LOCATION;VALUE=URI;X-ADDRESS=Mairie de Laconnex Rue de la Maison-Forte 11 Laconnex 1287;X-APPLE-RADIUS=500;X-TITLE=Rue de la Maison-Forte 11:geo:6.0369514,46.1568937
END:VEVENT
BEGIN:VEVENT
DTSTART;TZID=Europe/Zurich:20230128T080000
DTEND;TZID=Europe/Zurich:20230128T120000
DTSTAMP:20260423T040251
CREATED:20191128T102002Z
LAST-MODIFIED:20200817T144403Z
UID:10004257-1674892800-1674907200@www.laconnex.ch
SUMMARY:Votation populaire
DESCRIPTION:
URL:https://www.laconnex.ch/rendez-vous/votation-populaire-7/2023-01-28/
LOCATION:Mairie de Laconnex\, Rue de la Maison-Forte 11\, Laconnex\, 1287
CATEGORIES:Politique
ATTACH;FMTTYPE=image/jpeg:https://www.laconnex.ch/2025/wp-content/uploads/vote.jpg
GEO:46.1568937;6.0369514
X-APPLE-STRUCTURED-LOCATION;VALUE=URI;X-ADDRESS=Mairie de Laconnex Rue de la Maison-Forte 11 Laconnex 1287;X-APPLE-RADIUS=500;X-TITLE=Rue de la Maison-Forte 11:geo:6.0369514,46.1568937
END:VEVENT
END:VCALENDAR