BEGIN:VCALENDAR
VERSION:2.0
PRODID:-//Commune de Laconnex • Canton de Genève - ECPv6.10.1.1//NONSGML v1.0//EN
CALSCALE:GREGORIAN
METHOD:PUBLISH
X-ORIGINAL-URL:https://www.laconnex.ch
X-WR-CALDESC:Évènements pour Commune de Laconnex • Canton de Genève
REFRESH-INTERVAL;VALUE=DURATION:PT1H
X-Robots-Tag:noindex
X-PUBLISHED-TTL:PT1H
BEGIN:VTIMEZONE
TZID:Europe/Zurich
BEGIN:DAYLIGHT
TZOFFSETFROM:+0100
TZOFFSETTO:+0200
TZNAME:CEST
DTSTART:20230326T010000
END:DAYLIGHT
BEGIN:STANDARD
TZOFFSETFROM:+0200
TZOFFSETTO:+0100
TZNAME:CET
DTSTART:20231029T010000
END:STANDARD
END:VTIMEZONE
BEGIN:VEVENT
DTSTART;TZID=Europe/Zurich:20230201T080000
DTEND;TZID=Europe/Zurich:20230201T120000
DTSTAMP:20260423T110225
CREATED:20191128T102049Z
LAST-MODIFIED:20200817T144422Z
UID:10003256-1675238400-1675252800@www.laconnex.ch
SUMMARY:Votation populaire
DESCRIPTION:
URL:https://www.laconnex.ch/rendez-vous/votation-populaire-8/2023-02-01/
LOCATION:Mairie de Laconnex\, Rue de la Maison-Forte 11\, Laconnex\, 1287
CATEGORIES:Politique
ATTACH;FMTTYPE=image/jpeg:https://www.laconnex.ch/2025/wp-content/uploads/vote.jpg
GEO:46.1568937;6.0369514
X-APPLE-STRUCTURED-LOCATION;VALUE=URI;X-ADDRESS=Mairie de Laconnex Rue de la Maison-Forte 11 Laconnex 1287;X-APPLE-RADIUS=500;X-TITLE=Rue de la Maison-Forte 11:geo:6.0369514,46.1568937
END:VEVENT
BEGIN:VEVENT
DTSTART;TZID=Europe/Zurich:20230201T080000
DTEND;TZID=Europe/Zurich:20230201T120000
DTSTAMP:20260423T110225
CREATED:20191128T102002Z
LAST-MODIFIED:20200817T144403Z
UID:10004261-1675238400-1675252800@www.laconnex.ch
SUMMARY:Votation populaire
DESCRIPTION:
URL:https://www.laconnex.ch/rendez-vous/votation-populaire-7/2023-02-01/
LOCATION:Mairie de Laconnex\, Rue de la Maison-Forte 11\, Laconnex\, 1287
CATEGORIES:Politique
ATTACH;FMTTYPE=image/jpeg:https://www.laconnex.ch/2025/wp-content/uploads/vote.jpg
GEO:46.1568937;6.0369514
X-APPLE-STRUCTURED-LOCATION;VALUE=URI;X-ADDRESS=Mairie de Laconnex Rue de la Maison-Forte 11 Laconnex 1287;X-APPLE-RADIUS=500;X-TITLE=Rue de la Maison-Forte 11:geo:6.0369514,46.1568937
END:VEVENT
BEGIN:VEVENT
DTSTART;TZID=Europe/Zurich:20230131T080000
DTEND;TZID=Europe/Zurich:20230131T120000
DTSTAMP:20260423T110225
CREATED:20191128T102049Z
LAST-MODIFIED:20200817T144422Z
UID:10003255-1675152000-1675166400@www.laconnex.ch
SUMMARY:Votation populaire
DESCRIPTION:
URL:https://www.laconnex.ch/rendez-vous/votation-populaire-8/2023-01-31/
LOCATION:Mairie de Laconnex\, Rue de la Maison-Forte 11\, Laconnex\, 1287
CATEGORIES:Politique
ATTACH;FMTTYPE=image/jpeg:https://www.laconnex.ch/2025/wp-content/uploads/vote.jpg
GEO:46.1568937;6.0369514
X-APPLE-STRUCTURED-LOCATION;VALUE=URI;X-ADDRESS=Mairie de Laconnex Rue de la Maison-Forte 11 Laconnex 1287;X-APPLE-RADIUS=500;X-TITLE=Rue de la Maison-Forte 11:geo:6.0369514,46.1568937
END:VEVENT
BEGIN:VEVENT
DTSTART;TZID=Europe/Zurich:20230131T080000
DTEND;TZID=Europe/Zurich:20230131T120000
DTSTAMP:20260423T110225
CREATED:20191128T102002Z
LAST-MODIFIED:20200817T144403Z
UID:10004260-1675152000-1675166400@www.laconnex.ch
SUMMARY:Votation populaire
DESCRIPTION:
URL:https://www.laconnex.ch/rendez-vous/votation-populaire-7/2023-01-31/
LOCATION:Mairie de Laconnex\, Rue de la Maison-Forte 11\, Laconnex\, 1287
CATEGORIES:Politique
ATTACH;FMTTYPE=image/jpeg:https://www.laconnex.ch/2025/wp-content/uploads/vote.jpg
GEO:46.1568937;6.0369514
X-APPLE-STRUCTURED-LOCATION;VALUE=URI;X-ADDRESS=Mairie de Laconnex Rue de la Maison-Forte 11 Laconnex 1287;X-APPLE-RADIUS=500;X-TITLE=Rue de la Maison-Forte 11:geo:6.0369514,46.1568937
END:VEVENT
BEGIN:VEVENT
DTSTART;TZID=Europe/Zurich:20230130T080000
DTEND;TZID=Europe/Zurich:20230130T120000
DTSTAMP:20260423T110225
CREATED:20191128T102049Z
LAST-MODIFIED:20200817T144422Z
UID:10003254-1675065600-1675080000@www.laconnex.ch
SUMMARY:Votation populaire
DESCRIPTION:
URL:https://www.laconnex.ch/rendez-vous/votation-populaire-8/2023-01-30/
LOCATION:Mairie de Laconnex\, Rue de la Maison-Forte 11\, Laconnex\, 1287
CATEGORIES:Politique
ATTACH;FMTTYPE=image/jpeg:https://www.laconnex.ch/2025/wp-content/uploads/vote.jpg
GEO:46.1568937;6.0369514
X-APPLE-STRUCTURED-LOCATION;VALUE=URI;X-ADDRESS=Mairie de Laconnex Rue de la Maison-Forte 11 Laconnex 1287;X-APPLE-RADIUS=500;X-TITLE=Rue de la Maison-Forte 11:geo:6.0369514,46.1568937
END:VEVENT
BEGIN:VEVENT
DTSTART;TZID=Europe/Zurich:20230130T080000
DTEND;TZID=Europe/Zurich:20230130T120000
DTSTAMP:20260423T110225
CREATED:20191128T102002Z
LAST-MODIFIED:20200817T144403Z
UID:10004259-1675065600-1675080000@www.laconnex.ch
SUMMARY:Votation populaire
DESCRIPTION:
URL:https://www.laconnex.ch/rendez-vous/votation-populaire-7/2023-01-30/
LOCATION:Mairie de Laconnex\, Rue de la Maison-Forte 11\, Laconnex\, 1287
CATEGORIES:Politique
ATTACH;FMTTYPE=image/jpeg:https://www.laconnex.ch/2025/wp-content/uploads/vote.jpg
GEO:46.1568937;6.0369514
X-APPLE-STRUCTURED-LOCATION;VALUE=URI;X-ADDRESS=Mairie de Laconnex Rue de la Maison-Forte 11 Laconnex 1287;X-APPLE-RADIUS=500;X-TITLE=Rue de la Maison-Forte 11:geo:6.0369514,46.1568937
END:VEVENT
BEGIN:VEVENT
DTSTART;TZID=Europe/Zurich:20230129T080000
DTEND;TZID=Europe/Zurich:20230129T120000
DTSTAMP:20260423T110225
CREATED:20191128T102049Z
LAST-MODIFIED:20200817T144422Z
UID:10003253-1674979200-1674993600@www.laconnex.ch
SUMMARY:Votation populaire
DESCRIPTION:
URL:https://www.laconnex.ch/rendez-vous/votation-populaire-8/2023-01-29/
LOCATION:Mairie de Laconnex\, Rue de la Maison-Forte 11\, Laconnex\, 1287
CATEGORIES:Politique
ATTACH;FMTTYPE=image/jpeg:https://www.laconnex.ch/2025/wp-content/uploads/vote.jpg
GEO:46.1568937;6.0369514
X-APPLE-STRUCTURED-LOCATION;VALUE=URI;X-ADDRESS=Mairie de Laconnex Rue de la Maison-Forte 11 Laconnex 1287;X-APPLE-RADIUS=500;X-TITLE=Rue de la Maison-Forte 11:geo:6.0369514,46.1568937
END:VEVENT
BEGIN:VEVENT
DTSTART;TZID=Europe/Zurich:20230129T080000
DTEND;TZID=Europe/Zurich:20230129T120000
DTSTAMP:20260423T110225
CREATED:20191128T102002Z
LAST-MODIFIED:20200817T144403Z
UID:10004258-1674979200-1674993600@www.laconnex.ch
SUMMARY:Votation populaire
DESCRIPTION:
URL:https://www.laconnex.ch/rendez-vous/votation-populaire-7/2023-01-29/
LOCATION:Mairie de Laconnex\, Rue de la Maison-Forte 11\, Laconnex\, 1287
CATEGORIES:Politique
ATTACH;FMTTYPE=image/jpeg:https://www.laconnex.ch/2025/wp-content/uploads/vote.jpg
GEO:46.1568937;6.0369514
X-APPLE-STRUCTURED-LOCATION;VALUE=URI;X-ADDRESS=Mairie de Laconnex Rue de la Maison-Forte 11 Laconnex 1287;X-APPLE-RADIUS=500;X-TITLE=Rue de la Maison-Forte 11:geo:6.0369514,46.1568937
END:VEVENT
BEGIN:VEVENT
DTSTART;TZID=Europe/Zurich:20230128T080000
DTEND;TZID=Europe/Zurich:20230128T120000
DTSTAMP:20260423T110225
CREATED:20191128T102049Z
LAST-MODIFIED:20200817T144422Z
UID:10003252-1674892800-1674907200@www.laconnex.ch
SUMMARY:Votation populaire
DESCRIPTION:
URL:https://www.laconnex.ch/rendez-vous/votation-populaire-8/2023-01-28/
LOCATION:Mairie de Laconnex\, Rue de la Maison-Forte 11\, Laconnex\, 1287
CATEGORIES:Politique
ATTACH;FMTTYPE=image/jpeg:https://www.laconnex.ch/2025/wp-content/uploads/vote.jpg
GEO:46.1568937;6.0369514
X-APPLE-STRUCTURED-LOCATION;VALUE=URI;X-ADDRESS=Mairie de Laconnex Rue de la Maison-Forte 11 Laconnex 1287;X-APPLE-RADIUS=500;X-TITLE=Rue de la Maison-Forte 11:geo:6.0369514,46.1568937
END:VEVENT
BEGIN:VEVENT
DTSTART;TZID=Europe/Zurich:20230128T080000
DTEND;TZID=Europe/Zurich:20230128T120000
DTSTAMP:20260423T110225
CREATED:20191128T102002Z
LAST-MODIFIED:20200817T144403Z
UID:10004257-1674892800-1674907200@www.laconnex.ch
SUMMARY:Votation populaire
DESCRIPTION:
URL:https://www.laconnex.ch/rendez-vous/votation-populaire-7/2023-01-28/
LOCATION:Mairie de Laconnex\, Rue de la Maison-Forte 11\, Laconnex\, 1287
CATEGORIES:Politique
ATTACH;FMTTYPE=image/jpeg:https://www.laconnex.ch/2025/wp-content/uploads/vote.jpg
GEO:46.1568937;6.0369514
X-APPLE-STRUCTURED-LOCATION;VALUE=URI;X-ADDRESS=Mairie de Laconnex Rue de la Maison-Forte 11 Laconnex 1287;X-APPLE-RADIUS=500;X-TITLE=Rue de la Maison-Forte 11:geo:6.0369514,46.1568937
END:VEVENT
BEGIN:VEVENT
DTSTART;TZID=Europe/Zurich:20230127T080000
DTEND;TZID=Europe/Zurich:20230127T120000
DTSTAMP:20260423T110225
CREATED:20191128T102049Z
LAST-MODIFIED:20200817T144422Z
UID:10003251-1674806400-1674820800@www.laconnex.ch
SUMMARY:Votation populaire
DESCRIPTION:
URL:https://www.laconnex.ch/rendez-vous/votation-populaire-8/2023-01-27/
LOCATION:Mairie de Laconnex\, Rue de la Maison-Forte 11\, Laconnex\, 1287
CATEGORIES:Politique
ATTACH;FMTTYPE=image/jpeg:https://www.laconnex.ch/2025/wp-content/uploads/vote.jpg
GEO:46.1568937;6.0369514
X-APPLE-STRUCTURED-LOCATION;VALUE=URI;X-ADDRESS=Mairie de Laconnex Rue de la Maison-Forte 11 Laconnex 1287;X-APPLE-RADIUS=500;X-TITLE=Rue de la Maison-Forte 11:geo:6.0369514,46.1568937
END:VEVENT
BEGIN:VEVENT
DTSTART;TZID=Europe/Zurich:20230127T080000
DTEND;TZID=Europe/Zurich:20230127T120000
DTSTAMP:20260423T110225
CREATED:20191128T102002Z
LAST-MODIFIED:20200817T144403Z
UID:10004256-1674806400-1674820800@www.laconnex.ch
SUMMARY:Votation populaire
DESCRIPTION:
URL:https://www.laconnex.ch/rendez-vous/votation-populaire-7/2023-01-27/
LOCATION:Mairie de Laconnex\, Rue de la Maison-Forte 11\, Laconnex\, 1287
CATEGORIES:Politique
ATTACH;FMTTYPE=image/jpeg:https://www.laconnex.ch/2025/wp-content/uploads/vote.jpg
GEO:46.1568937;6.0369514
X-APPLE-STRUCTURED-LOCATION;VALUE=URI;X-ADDRESS=Mairie de Laconnex Rue de la Maison-Forte 11 Laconnex 1287;X-APPLE-RADIUS=500;X-TITLE=Rue de la Maison-Forte 11:geo:6.0369514,46.1568937
END:VEVENT
BEGIN:VEVENT
DTSTART;TZID=Europe/Zurich:20230126T080000
DTEND;TZID=Europe/Zurich:20230126T120000
DTSTAMP:20260423T110225
CREATED:20191128T102049Z
LAST-MODIFIED:20200817T144422Z
UID:10003250-1674720000-1674734400@www.laconnex.ch
SUMMARY:Votation populaire
DESCRIPTION:
URL:https://www.laconnex.ch/rendez-vous/votation-populaire-8/2023-01-26/
LOCATION:Mairie de Laconnex\, Rue de la Maison-Forte 11\, Laconnex\, 1287
CATEGORIES:Politique
ATTACH;FMTTYPE=image/jpeg:https://www.laconnex.ch/2025/wp-content/uploads/vote.jpg
GEO:46.1568937;6.0369514
X-APPLE-STRUCTURED-LOCATION;VALUE=URI;X-ADDRESS=Mairie de Laconnex Rue de la Maison-Forte 11 Laconnex 1287;X-APPLE-RADIUS=500;X-TITLE=Rue de la Maison-Forte 11:geo:6.0369514,46.1568937
END:VEVENT
BEGIN:VEVENT
DTSTART;TZID=Europe/Zurich:20230126T080000
DTEND;TZID=Europe/Zurich:20230126T120000
DTSTAMP:20260423T110225
CREATED:20191128T102002Z
LAST-MODIFIED:20200817T144403Z
UID:10004255-1674720000-1674734400@www.laconnex.ch
SUMMARY:Votation populaire
DESCRIPTION:
URL:https://www.laconnex.ch/rendez-vous/votation-populaire-7/2023-01-26/
LOCATION:Mairie de Laconnex\, Rue de la Maison-Forte 11\, Laconnex\, 1287
CATEGORIES:Politique
ATTACH;FMTTYPE=image/jpeg:https://www.laconnex.ch/2025/wp-content/uploads/vote.jpg
GEO:46.1568937;6.0369514
X-APPLE-STRUCTURED-LOCATION;VALUE=URI;X-ADDRESS=Mairie de Laconnex Rue de la Maison-Forte 11 Laconnex 1287;X-APPLE-RADIUS=500;X-TITLE=Rue de la Maison-Forte 11:geo:6.0369514,46.1568937
END:VEVENT
BEGIN:VEVENT
DTSTART;TZID=Europe/Zurich:20230125T080000
DTEND;TZID=Europe/Zurich:20230125T120000
DTSTAMP:20260423T110225
CREATED:20191128T102049Z
LAST-MODIFIED:20200817T144422Z
UID:10003249-1674633600-1674648000@www.laconnex.ch
SUMMARY:Votation populaire
DESCRIPTION:
URL:https://www.laconnex.ch/rendez-vous/votation-populaire-8/2023-01-25/
LOCATION:Mairie de Laconnex\, Rue de la Maison-Forte 11\, Laconnex\, 1287
CATEGORIES:Politique
ATTACH;FMTTYPE=image/jpeg:https://www.laconnex.ch/2025/wp-content/uploads/vote.jpg
GEO:46.1568937;6.0369514
X-APPLE-STRUCTURED-LOCATION;VALUE=URI;X-ADDRESS=Mairie de Laconnex Rue de la Maison-Forte 11 Laconnex 1287;X-APPLE-RADIUS=500;X-TITLE=Rue de la Maison-Forte 11:geo:6.0369514,46.1568937
END:VEVENT
BEGIN:VEVENT
DTSTART;TZID=Europe/Zurich:20230125T080000
DTEND;TZID=Europe/Zurich:20230125T120000
DTSTAMP:20260423T110225
CREATED:20191128T102002Z
LAST-MODIFIED:20200817T144403Z
UID:10004254-1674633600-1674648000@www.laconnex.ch
SUMMARY:Votation populaire
DESCRIPTION:
URL:https://www.laconnex.ch/rendez-vous/votation-populaire-7/2023-01-25/
LOCATION:Mairie de Laconnex\, Rue de la Maison-Forte 11\, Laconnex\, 1287
CATEGORIES:Politique
ATTACH;FMTTYPE=image/jpeg:https://www.laconnex.ch/2025/wp-content/uploads/vote.jpg
GEO:46.1568937;6.0369514
X-APPLE-STRUCTURED-LOCATION;VALUE=URI;X-ADDRESS=Mairie de Laconnex Rue de la Maison-Forte 11 Laconnex 1287;X-APPLE-RADIUS=500;X-TITLE=Rue de la Maison-Forte 11:geo:6.0369514,46.1568937
END:VEVENT
BEGIN:VEVENT
DTSTART;TZID=Europe/Zurich:20230124T080000
DTEND;TZID=Europe/Zurich:20230124T120000
DTSTAMP:20260423T110225
CREATED:20191128T102049Z
LAST-MODIFIED:20200817T144422Z
UID:10003248-1674547200-1674561600@www.laconnex.ch
SUMMARY:Votation populaire
DESCRIPTION:
URL:https://www.laconnex.ch/rendez-vous/votation-populaire-8/2023-01-24/
LOCATION:Mairie de Laconnex\, Rue de la Maison-Forte 11\, Laconnex\, 1287
CATEGORIES:Politique
ATTACH;FMTTYPE=image/jpeg:https://www.laconnex.ch/2025/wp-content/uploads/vote.jpg
GEO:46.1568937;6.0369514
X-APPLE-STRUCTURED-LOCATION;VALUE=URI;X-ADDRESS=Mairie de Laconnex Rue de la Maison-Forte 11 Laconnex 1287;X-APPLE-RADIUS=500;X-TITLE=Rue de la Maison-Forte 11:geo:6.0369514,46.1568937
END:VEVENT
BEGIN:VEVENT
DTSTART;TZID=Europe/Zurich:20230124T080000
DTEND;TZID=Europe/Zurich:20230124T120000
DTSTAMP:20260423T110226
CREATED:20191128T102002Z
LAST-MODIFIED:20200817T144403Z
UID:10004253-1674547200-1674561600@www.laconnex.ch
SUMMARY:Votation populaire
DESCRIPTION:
URL:https://www.laconnex.ch/rendez-vous/votation-populaire-7/2023-01-24/
LOCATION:Mairie de Laconnex\, Rue de la Maison-Forte 11\, Laconnex\, 1287
CATEGORIES:Politique
ATTACH;FMTTYPE=image/jpeg:https://www.laconnex.ch/2025/wp-content/uploads/vote.jpg
GEO:46.1568937;6.0369514
X-APPLE-STRUCTURED-LOCATION;VALUE=URI;X-ADDRESS=Mairie de Laconnex Rue de la Maison-Forte 11 Laconnex 1287;X-APPLE-RADIUS=500;X-TITLE=Rue de la Maison-Forte 11:geo:6.0369514,46.1568937
END:VEVENT
BEGIN:VEVENT
DTSTART;TZID=Europe/Zurich:20230123T080000
DTEND;TZID=Europe/Zurich:20230123T120000
DTSTAMP:20260423T110226
CREATED:20191128T102049Z
LAST-MODIFIED:20200817T144422Z
UID:10003247-1674460800-1674475200@www.laconnex.ch
SUMMARY:Votation populaire
DESCRIPTION:
URL:https://www.laconnex.ch/rendez-vous/votation-populaire-8/2023-01-23/
LOCATION:Mairie de Laconnex\, Rue de la Maison-Forte 11\, Laconnex\, 1287
CATEGORIES:Politique
ATTACH;FMTTYPE=image/jpeg:https://www.laconnex.ch/2025/wp-content/uploads/vote.jpg
GEO:46.1568937;6.0369514
X-APPLE-STRUCTURED-LOCATION;VALUE=URI;X-ADDRESS=Mairie de Laconnex Rue de la Maison-Forte 11 Laconnex 1287;X-APPLE-RADIUS=500;X-TITLE=Rue de la Maison-Forte 11:geo:6.0369514,46.1568937
END:VEVENT
BEGIN:VEVENT
DTSTART;TZID=Europe/Zurich:20230123T080000
DTEND;TZID=Europe/Zurich:20230123T120000
DTSTAMP:20260423T110226
CREATED:20191128T102002Z
LAST-MODIFIED:20200817T144403Z
UID:10004252-1674460800-1674475200@www.laconnex.ch
SUMMARY:Votation populaire
DESCRIPTION:
URL:https://www.laconnex.ch/rendez-vous/votation-populaire-7/2023-01-23/
LOCATION:Mairie de Laconnex\, Rue de la Maison-Forte 11\, Laconnex\, 1287
CATEGORIES:Politique
ATTACH;FMTTYPE=image/jpeg:https://www.laconnex.ch/2025/wp-content/uploads/vote.jpg
GEO:46.1568937;6.0369514
X-APPLE-STRUCTURED-LOCATION;VALUE=URI;X-ADDRESS=Mairie de Laconnex Rue de la Maison-Forte 11 Laconnex 1287;X-APPLE-RADIUS=500;X-TITLE=Rue de la Maison-Forte 11:geo:6.0369514,46.1568937
END:VEVENT
BEGIN:VEVENT
DTSTART;TZID=Europe/Zurich:20230122T080000
DTEND;TZID=Europe/Zurich:20230122T120000
DTSTAMP:20260423T110226
CREATED:20191128T102049Z
LAST-MODIFIED:20200817T144422Z
UID:10003246-1674374400-1674388800@www.laconnex.ch
SUMMARY:Votation populaire
DESCRIPTION:
URL:https://www.laconnex.ch/rendez-vous/votation-populaire-8/2023-01-22/
LOCATION:Mairie de Laconnex\, Rue de la Maison-Forte 11\, Laconnex\, 1287
CATEGORIES:Politique
ATTACH;FMTTYPE=image/jpeg:https://www.laconnex.ch/2025/wp-content/uploads/vote.jpg
GEO:46.1568937;6.0369514
X-APPLE-STRUCTURED-LOCATION;VALUE=URI;X-ADDRESS=Mairie de Laconnex Rue de la Maison-Forte 11 Laconnex 1287;X-APPLE-RADIUS=500;X-TITLE=Rue de la Maison-Forte 11:geo:6.0369514,46.1568937
END:VEVENT
BEGIN:VEVENT
DTSTART;TZID=Europe/Zurich:20230122T080000
DTEND;TZID=Europe/Zurich:20230122T120000
DTSTAMP:20260423T110226
CREATED:20191128T102002Z
LAST-MODIFIED:20200817T144403Z
UID:10004251-1674374400-1674388800@www.laconnex.ch
SUMMARY:Votation populaire
DESCRIPTION:
URL:https://www.laconnex.ch/rendez-vous/votation-populaire-7/2023-01-22/
LOCATION:Mairie de Laconnex\, Rue de la Maison-Forte 11\, Laconnex\, 1287
CATEGORIES:Politique
ATTACH;FMTTYPE=image/jpeg:https://www.laconnex.ch/2025/wp-content/uploads/vote.jpg
GEO:46.1568937;6.0369514
X-APPLE-STRUCTURED-LOCATION;VALUE=URI;X-ADDRESS=Mairie de Laconnex Rue de la Maison-Forte 11 Laconnex 1287;X-APPLE-RADIUS=500;X-TITLE=Rue de la Maison-Forte 11:geo:6.0369514,46.1568937
END:VEVENT
BEGIN:VEVENT
DTSTART;TZID=Europe/Zurich:20230121T080000
DTEND;TZID=Europe/Zurich:20230121T120000
DTSTAMP:20260423T110226
CREATED:20191128T102049Z
LAST-MODIFIED:20200817T144422Z
UID:10003245-1674288000-1674302400@www.laconnex.ch
SUMMARY:Votation populaire
DESCRIPTION:
URL:https://www.laconnex.ch/rendez-vous/votation-populaire-8/2023-01-21/
LOCATION:Mairie de Laconnex\, Rue de la Maison-Forte 11\, Laconnex\, 1287
CATEGORIES:Politique
ATTACH;FMTTYPE=image/jpeg:https://www.laconnex.ch/2025/wp-content/uploads/vote.jpg
GEO:46.1568937;6.0369514
X-APPLE-STRUCTURED-LOCATION;VALUE=URI;X-ADDRESS=Mairie de Laconnex Rue de la Maison-Forte 11 Laconnex 1287;X-APPLE-RADIUS=500;X-TITLE=Rue de la Maison-Forte 11:geo:6.0369514,46.1568937
END:VEVENT
BEGIN:VEVENT
DTSTART;TZID=Europe/Zurich:20230121T080000
DTEND;TZID=Europe/Zurich:20230121T120000
DTSTAMP:20260423T110226
CREATED:20191128T102002Z
LAST-MODIFIED:20200817T144403Z
UID:10004250-1674288000-1674302400@www.laconnex.ch
SUMMARY:Votation populaire
DESCRIPTION:
URL:https://www.laconnex.ch/rendez-vous/votation-populaire-7/2023-01-21/
LOCATION:Mairie de Laconnex\, Rue de la Maison-Forte 11\, Laconnex\, 1287
CATEGORIES:Politique
ATTACH;FMTTYPE=image/jpeg:https://www.laconnex.ch/2025/wp-content/uploads/vote.jpg
GEO:46.1568937;6.0369514
X-APPLE-STRUCTURED-LOCATION;VALUE=URI;X-ADDRESS=Mairie de Laconnex Rue de la Maison-Forte 11 Laconnex 1287;X-APPLE-RADIUS=500;X-TITLE=Rue de la Maison-Forte 11:geo:6.0369514,46.1568937
END:VEVENT
BEGIN:VEVENT
DTSTART;TZID=Europe/Zurich:20230120T080000
DTEND;TZID=Europe/Zurich:20230120T120000
DTSTAMP:20260423T110226
CREATED:20191128T102049Z
LAST-MODIFIED:20200817T144422Z
UID:10003244-1674201600-1674216000@www.laconnex.ch
SUMMARY:Votation populaire
DESCRIPTION:
URL:https://www.laconnex.ch/rendez-vous/votation-populaire-8/2023-01-20/
LOCATION:Mairie de Laconnex\, Rue de la Maison-Forte 11\, Laconnex\, 1287
CATEGORIES:Politique
ATTACH;FMTTYPE=image/jpeg:https://www.laconnex.ch/2025/wp-content/uploads/vote.jpg
GEO:46.1568937;6.0369514
X-APPLE-STRUCTURED-LOCATION;VALUE=URI;X-ADDRESS=Mairie de Laconnex Rue de la Maison-Forte 11 Laconnex 1287;X-APPLE-RADIUS=500;X-TITLE=Rue de la Maison-Forte 11:geo:6.0369514,46.1568937
END:VEVENT
BEGIN:VEVENT
DTSTART;TZID=Europe/Zurich:20230120T080000
DTEND;TZID=Europe/Zurich:20230120T120000
DTSTAMP:20260423T110226
CREATED:20191128T102002Z
LAST-MODIFIED:20200817T144403Z
UID:10004249-1674201600-1674216000@www.laconnex.ch
SUMMARY:Votation populaire
DESCRIPTION:
URL:https://www.laconnex.ch/rendez-vous/votation-populaire-7/2023-01-20/
LOCATION:Mairie de Laconnex\, Rue de la Maison-Forte 11\, Laconnex\, 1287
CATEGORIES:Politique
ATTACH;FMTTYPE=image/jpeg:https://www.laconnex.ch/2025/wp-content/uploads/vote.jpg
GEO:46.1568937;6.0369514
X-APPLE-STRUCTURED-LOCATION;VALUE=URI;X-ADDRESS=Mairie de Laconnex Rue de la Maison-Forte 11 Laconnex 1287;X-APPLE-RADIUS=500;X-TITLE=Rue de la Maison-Forte 11:geo:6.0369514,46.1568937
END:VEVENT
BEGIN:VEVENT
DTSTART;TZID=Europe/Zurich:20230119T080000
DTEND;TZID=Europe/Zurich:20230119T120000
DTSTAMP:20260423T110226
CREATED:20191128T102049Z
LAST-MODIFIED:20200817T144422Z
UID:10003243-1674115200-1674129600@www.laconnex.ch
SUMMARY:Votation populaire
DESCRIPTION:
URL:https://www.laconnex.ch/rendez-vous/votation-populaire-8/2023-01-19/
LOCATION:Mairie de Laconnex\, Rue de la Maison-Forte 11\, Laconnex\, 1287
CATEGORIES:Politique
ATTACH;FMTTYPE=image/jpeg:https://www.laconnex.ch/2025/wp-content/uploads/vote.jpg
GEO:46.1568937;6.0369514
X-APPLE-STRUCTURED-LOCATION;VALUE=URI;X-ADDRESS=Mairie de Laconnex Rue de la Maison-Forte 11 Laconnex 1287;X-APPLE-RADIUS=500;X-TITLE=Rue de la Maison-Forte 11:geo:6.0369514,46.1568937
END:VEVENT
BEGIN:VEVENT
DTSTART;TZID=Europe/Zurich:20230119T080000
DTEND;TZID=Europe/Zurich:20230119T120000
DTSTAMP:20260423T110226
CREATED:20191128T102002Z
LAST-MODIFIED:20200817T144403Z
UID:10004248-1674115200-1674129600@www.laconnex.ch
SUMMARY:Votation populaire
DESCRIPTION:
URL:https://www.laconnex.ch/rendez-vous/votation-populaire-7/2023-01-19/
LOCATION:Mairie de Laconnex\, Rue de la Maison-Forte 11\, Laconnex\, 1287
CATEGORIES:Politique
ATTACH;FMTTYPE=image/jpeg:https://www.laconnex.ch/2025/wp-content/uploads/vote.jpg
GEO:46.1568937;6.0369514
X-APPLE-STRUCTURED-LOCATION;VALUE=URI;X-ADDRESS=Mairie de Laconnex Rue de la Maison-Forte 11 Laconnex 1287;X-APPLE-RADIUS=500;X-TITLE=Rue de la Maison-Forte 11:geo:6.0369514,46.1568937
END:VEVENT
BEGIN:VEVENT
DTSTART;TZID=Europe/Zurich:20230118T080000
DTEND;TZID=Europe/Zurich:20230118T120000
DTSTAMP:20260423T110226
CREATED:20191128T102049Z
LAST-MODIFIED:20200817T144422Z
UID:10003242-1674028800-1674043200@www.laconnex.ch
SUMMARY:Votation populaire
DESCRIPTION:
URL:https://www.laconnex.ch/rendez-vous/votation-populaire-8/2023-01-18/
LOCATION:Mairie de Laconnex\, Rue de la Maison-Forte 11\, Laconnex\, 1287
CATEGORIES:Politique
ATTACH;FMTTYPE=image/jpeg:https://www.laconnex.ch/2025/wp-content/uploads/vote.jpg
GEO:46.1568937;6.0369514
X-APPLE-STRUCTURED-LOCATION;VALUE=URI;X-ADDRESS=Mairie de Laconnex Rue de la Maison-Forte 11 Laconnex 1287;X-APPLE-RADIUS=500;X-TITLE=Rue de la Maison-Forte 11:geo:6.0369514,46.1568937
END:VEVENT
BEGIN:VEVENT
DTSTART;TZID=Europe/Zurich:20230118T080000
DTEND;TZID=Europe/Zurich:20230118T120000
DTSTAMP:20260423T110226
CREATED:20191128T102002Z
LAST-MODIFIED:20200817T144403Z
UID:10004247-1674028800-1674043200@www.laconnex.ch
SUMMARY:Votation populaire
DESCRIPTION:
URL:https://www.laconnex.ch/rendez-vous/votation-populaire-7/2023-01-18/
LOCATION:Mairie de Laconnex\, Rue de la Maison-Forte 11\, Laconnex\, 1287
CATEGORIES:Politique
ATTACH;FMTTYPE=image/jpeg:https://www.laconnex.ch/2025/wp-content/uploads/vote.jpg
GEO:46.1568937;6.0369514
X-APPLE-STRUCTURED-LOCATION;VALUE=URI;X-ADDRESS=Mairie de Laconnex Rue de la Maison-Forte 11 Laconnex 1287;X-APPLE-RADIUS=500;X-TITLE=Rue de la Maison-Forte 11:geo:6.0369514,46.1568937
END:VEVENT
END:VCALENDAR