BEGIN:VCALENDAR
VERSION:2.0
PRODID:-//Commune de Laconnex • Canton de Genève - ECPv6.10.1.1//NONSGML v1.0//EN
CALSCALE:GREGORIAN
METHOD:PUBLISH
X-ORIGINAL-URL:https://www.laconnex.ch
X-WR-CALDESC:Évènements pour Commune de Laconnex • Canton de Genève
REFRESH-INTERVAL;VALUE=DURATION:PT1H
X-Robots-Tag:noindex
X-PUBLISHED-TTL:PT1H
BEGIN:VTIMEZONE
TZID:Europe/Zurich
BEGIN:DAYLIGHT
TZOFFSETFROM:+0100
TZOFFSETTO:+0200
TZNAME:CEST
DTSTART:20230326T010000
END:DAYLIGHT
BEGIN:STANDARD
TZOFFSETFROM:+0200
TZOFFSETTO:+0100
TZNAME:CET
DTSTART:20231029T010000
END:STANDARD
END:VTIMEZONE
BEGIN:VEVENT
DTSTART;TZID=Europe/Zurich:20230519T100000
DTEND;TZID=Europe/Zurich:20230519T140000
DTSTAMP:20260426T011645
CREATED:20200128T142931Z
LAST-MODIFIED:20201008T073723Z
UID:10007239-1684490400-1684504800@www.laconnex.ch
SUMMARY:Marché - annulé
DESCRIPTION:Pour toutes questions : Marc Dupraz mdupraz@hotmail.com
URL:https://www.laconnex.ch/rendez-vous/marche-9/2023-05-19/
LOCATION:Place de la Mairie\, Rue de la Maison-Forte 11\, Laconnex\, 1287\, Suisse
CATEGORIES:Marché
ATTACH;FMTTYPE=image/jpeg:https://www.laconnex.ch/2025/wp-content/uploads/Marché-de-Laconnex.jpg
GEO:46.1568937;6.0369514
X-APPLE-STRUCTURED-LOCATION;VALUE=URI;X-ADDRESS=Place de la Mairie Rue de la Maison-Forte 11 Laconnex 1287 Suisse;X-APPLE-RADIUS=500;X-TITLE=Rue de la Maison-Forte 11:geo:6.0369514,46.1568937
END:VEVENT
BEGIN:VEVENT
DTSTART;TZID=Europe/Zurich:20230519T100000
DTEND;TZID=Europe/Zurich:20230519T140000
DTSTAMP:20260426T011645
CREATED:20200128T142907Z
LAST-MODIFIED:20201008T072318Z
UID:10006313-1684490400-1684504800@www.laconnex.ch
SUMMARY:Marché - annulé
DESCRIPTION:Pour toutes questions : Marc Dupraz mdupraz@hotmail.com
URL:https://www.laconnex.ch/rendez-vous/marche-8/2023-05-19/
LOCATION:Place de la Mairie\, Rue de la Maison-Forte 11\, Laconnex\, 1287\, Suisse
CATEGORIES:Marché
ATTACH;FMTTYPE=image/jpeg:https://www.laconnex.ch/2025/wp-content/uploads/Marché-de-Laconnex.jpg
GEO:46.1568937;6.0369514
X-APPLE-STRUCTURED-LOCATION;VALUE=URI;X-ADDRESS=Place de la Mairie Rue de la Maison-Forte 11 Laconnex 1287 Suisse;X-APPLE-RADIUS=500;X-TITLE=Rue de la Maison-Forte 11:geo:6.0369514,46.1568937
END:VEVENT
BEGIN:VEVENT
DTSTART;TZID=Europe/Zurich:20230519T100000
DTEND;TZID=Europe/Zurich:20230519T140000
DTSTAMP:20260426T011646
CREATED:20200128T142643Z
LAST-MODIFIED:20201008T072231Z
UID:10005363-1684490400-1684504800@www.laconnex.ch
SUMMARY:Marché - annulé
DESCRIPTION:Pour toutes questions : Marc Dupraz mdupraz@hotmail.com
URL:https://www.laconnex.ch/rendez-vous/marche-7/2023-05-19/
LOCATION:Place de la Mairie\, Rue de la Maison-Forte 11\, Laconnex\, 1287\, Suisse
CATEGORIES:Marché
ATTACH;FMTTYPE=image/jpeg:https://www.laconnex.ch/2025/wp-content/uploads/Marché-de-Laconnex.jpg
GEO:46.1568937;6.0369514
X-APPLE-STRUCTURED-LOCATION;VALUE=URI;X-ADDRESS=Place de la Mairie Rue de la Maison-Forte 11 Laconnex 1287 Suisse;X-APPLE-RADIUS=500;X-TITLE=Rue de la Maison-Forte 11:geo:6.0369514,46.1568937
END:VEVENT
BEGIN:VEVENT
DTSTART;TZID=Europe/Zurich:20230519T100000
DTEND;TZID=Europe/Zurich:20230519T140000
DTSTAMP:20260426T011646
CREATED:20200128T142620Z
LAST-MODIFIED:20200914T090140Z
UID:10001187-1684490400-1684504800@www.laconnex.ch
SUMMARY:Marché - annulé
DESCRIPTION:Pour toutes questions : Marc Dupraz mdupraz@hotmail.com
URL:https://www.laconnex.ch/rendez-vous/marche-6/2023-05-19/
LOCATION:Place de la Mairie\, Rue de la Maison-Forte 11\, Laconnex\, 1287\, Suisse
CATEGORIES:Marché
ATTACH;FMTTYPE=image/jpeg:https://www.laconnex.ch/2025/wp-content/uploads/Marché-de-Laconnex.jpg
GEO:46.1568937;6.0369514
X-APPLE-STRUCTURED-LOCATION;VALUE=URI;X-ADDRESS=Place de la Mairie Rue de la Maison-Forte 11 Laconnex 1287 Suisse;X-APPLE-RADIUS=500;X-TITLE=Rue de la Maison-Forte 11:geo:6.0369514,46.1568937
END:VEVENT
BEGIN:VEVENT
DTSTART;TZID=Europe/Zurich:20230519T100000
DTEND;TZID=Europe/Zurich:20230519T140000
DTSTAMP:20260426T011646
CREATED:20200128T142549Z
LAST-MODIFIED:20200611T114438Z
UID:10002304-1684490400-1684504800@www.laconnex.ch
SUMMARY:Marché - annulé !
DESCRIPTION:Pour toutes questions : Marc Dupraz mdupraz@hotmail.com
URL:https://www.laconnex.ch/rendez-vous/marche-5/2023-05-19/
LOCATION:Place de la Mairie\, Rue de la Maison-Forte 11\, Laconnex\, 1287\, Suisse
CATEGORIES:Marché
ATTACH;FMTTYPE=image/jpeg:https://www.laconnex.ch/2025/wp-content/uploads/Marché-de-Laconnex.jpg
GEO:46.1568937;6.0369514
X-APPLE-STRUCTURED-LOCATION;VALUE=URI;X-ADDRESS=Place de la Mairie Rue de la Maison-Forte 11 Laconnex 1287 Suisse;X-APPLE-RADIUS=500;X-TITLE=Rue de la Maison-Forte 11:geo:6.0369514,46.1568937
END:VEVENT
BEGIN:VEVENT
DTSTART;TZID=Europe/Zurich:20230518T100000
DTEND;TZID=Europe/Zurich:20230518T140000
DTSTAMP:20260426T011646
CREATED:20200128T142931Z
LAST-MODIFIED:20201008T073723Z
UID:10007238-1684404000-1684418400@www.laconnex.ch
SUMMARY:Marché - annulé
DESCRIPTION:Pour toutes questions : Marc Dupraz mdupraz@hotmail.com
URL:https://www.laconnex.ch/rendez-vous/marche-9/2023-05-18/
LOCATION:Place de la Mairie\, Rue de la Maison-Forte 11\, Laconnex\, 1287\, Suisse
CATEGORIES:Marché
ATTACH;FMTTYPE=image/jpeg:https://www.laconnex.ch/2025/wp-content/uploads/Marché-de-Laconnex.jpg
GEO:46.1568937;6.0369514
X-APPLE-STRUCTURED-LOCATION;VALUE=URI;X-ADDRESS=Place de la Mairie Rue de la Maison-Forte 11 Laconnex 1287 Suisse;X-APPLE-RADIUS=500;X-TITLE=Rue de la Maison-Forte 11:geo:6.0369514,46.1568937
END:VEVENT
BEGIN:VEVENT
DTSTART;TZID=Europe/Zurich:20230518T100000
DTEND;TZID=Europe/Zurich:20230518T140000
DTSTAMP:20260426T011646
CREATED:20200128T142907Z
LAST-MODIFIED:20201008T072318Z
UID:10006312-1684404000-1684418400@www.laconnex.ch
SUMMARY:Marché - annulé
DESCRIPTION:Pour toutes questions : Marc Dupraz mdupraz@hotmail.com
URL:https://www.laconnex.ch/rendez-vous/marche-8/2023-05-18/
LOCATION:Place de la Mairie\, Rue de la Maison-Forte 11\, Laconnex\, 1287\, Suisse
CATEGORIES:Marché
ATTACH;FMTTYPE=image/jpeg:https://www.laconnex.ch/2025/wp-content/uploads/Marché-de-Laconnex.jpg
GEO:46.1568937;6.0369514
X-APPLE-STRUCTURED-LOCATION;VALUE=URI;X-ADDRESS=Place de la Mairie Rue de la Maison-Forte 11 Laconnex 1287 Suisse;X-APPLE-RADIUS=500;X-TITLE=Rue de la Maison-Forte 11:geo:6.0369514,46.1568937
END:VEVENT
BEGIN:VEVENT
DTSTART;TZID=Europe/Zurich:20230518T100000
DTEND;TZID=Europe/Zurich:20230518T140000
DTSTAMP:20260426T011646
CREATED:20200128T142643Z
LAST-MODIFIED:20201008T072231Z
UID:10005362-1684404000-1684418400@www.laconnex.ch
SUMMARY:Marché - annulé
DESCRIPTION:Pour toutes questions : Marc Dupraz mdupraz@hotmail.com
URL:https://www.laconnex.ch/rendez-vous/marche-7/2023-05-18/
LOCATION:Place de la Mairie\, Rue de la Maison-Forte 11\, Laconnex\, 1287\, Suisse
CATEGORIES:Marché
ATTACH;FMTTYPE=image/jpeg:https://www.laconnex.ch/2025/wp-content/uploads/Marché-de-Laconnex.jpg
GEO:46.1568937;6.0369514
X-APPLE-STRUCTURED-LOCATION;VALUE=URI;X-ADDRESS=Place de la Mairie Rue de la Maison-Forte 11 Laconnex 1287 Suisse;X-APPLE-RADIUS=500;X-TITLE=Rue de la Maison-Forte 11:geo:6.0369514,46.1568937
END:VEVENT
BEGIN:VEVENT
DTSTART;TZID=Europe/Zurich:20230518T100000
DTEND;TZID=Europe/Zurich:20230518T140000
DTSTAMP:20260426T011646
CREATED:20200128T142620Z
LAST-MODIFIED:20200914T090140Z
UID:10001186-1684404000-1684418400@www.laconnex.ch
SUMMARY:Marché - annulé
DESCRIPTION:Pour toutes questions : Marc Dupraz mdupraz@hotmail.com
URL:https://www.laconnex.ch/rendez-vous/marche-6/2023-05-18/
LOCATION:Place de la Mairie\, Rue de la Maison-Forte 11\, Laconnex\, 1287\, Suisse
CATEGORIES:Marché
ATTACH;FMTTYPE=image/jpeg:https://www.laconnex.ch/2025/wp-content/uploads/Marché-de-Laconnex.jpg
GEO:46.1568937;6.0369514
X-APPLE-STRUCTURED-LOCATION;VALUE=URI;X-ADDRESS=Place de la Mairie Rue de la Maison-Forte 11 Laconnex 1287 Suisse;X-APPLE-RADIUS=500;X-TITLE=Rue de la Maison-Forte 11:geo:6.0369514,46.1568937
END:VEVENT
BEGIN:VEVENT
DTSTART;TZID=Europe/Zurich:20230518T100000
DTEND;TZID=Europe/Zurich:20230518T140000
DTSTAMP:20260426T011646
CREATED:20200128T142549Z
LAST-MODIFIED:20200611T114438Z
UID:10002303-1684404000-1684418400@www.laconnex.ch
SUMMARY:Marché - annulé !
DESCRIPTION:Pour toutes questions : Marc Dupraz mdupraz@hotmail.com
URL:https://www.laconnex.ch/rendez-vous/marche-5/2023-05-18/
LOCATION:Place de la Mairie\, Rue de la Maison-Forte 11\, Laconnex\, 1287\, Suisse
CATEGORIES:Marché
ATTACH;FMTTYPE=image/jpeg:https://www.laconnex.ch/2025/wp-content/uploads/Marché-de-Laconnex.jpg
GEO:46.1568937;6.0369514
X-APPLE-STRUCTURED-LOCATION;VALUE=URI;X-ADDRESS=Place de la Mairie Rue de la Maison-Forte 11 Laconnex 1287 Suisse;X-APPLE-RADIUS=500;X-TITLE=Rue de la Maison-Forte 11:geo:6.0369514,46.1568937
END:VEVENT
BEGIN:VEVENT
DTSTART;TZID=Europe/Zurich:20230517T100000
DTEND;TZID=Europe/Zurich:20230517T140000
DTSTAMP:20260426T011646
CREATED:20200128T142931Z
LAST-MODIFIED:20201008T073723Z
UID:10007237-1684317600-1684332000@www.laconnex.ch
SUMMARY:Marché - annulé
DESCRIPTION:Pour toutes questions : Marc Dupraz mdupraz@hotmail.com
URL:https://www.laconnex.ch/rendez-vous/marche-9/2023-05-17/
LOCATION:Place de la Mairie\, Rue de la Maison-Forte 11\, Laconnex\, 1287\, Suisse
CATEGORIES:Marché
ATTACH;FMTTYPE=image/jpeg:https://www.laconnex.ch/2025/wp-content/uploads/Marché-de-Laconnex.jpg
GEO:46.1568937;6.0369514
X-APPLE-STRUCTURED-LOCATION;VALUE=URI;X-ADDRESS=Place de la Mairie Rue de la Maison-Forte 11 Laconnex 1287 Suisse;X-APPLE-RADIUS=500;X-TITLE=Rue de la Maison-Forte 11:geo:6.0369514,46.1568937
END:VEVENT
BEGIN:VEVENT
DTSTART;TZID=Europe/Zurich:20230517T100000
DTEND;TZID=Europe/Zurich:20230517T140000
DTSTAMP:20260426T011646
CREATED:20200128T142907Z
LAST-MODIFIED:20201008T072318Z
UID:10006311-1684317600-1684332000@www.laconnex.ch
SUMMARY:Marché - annulé
DESCRIPTION:Pour toutes questions : Marc Dupraz mdupraz@hotmail.com
URL:https://www.laconnex.ch/rendez-vous/marche-8/2023-05-17/
LOCATION:Place de la Mairie\, Rue de la Maison-Forte 11\, Laconnex\, 1287\, Suisse
CATEGORIES:Marché
ATTACH;FMTTYPE=image/jpeg:https://www.laconnex.ch/2025/wp-content/uploads/Marché-de-Laconnex.jpg
GEO:46.1568937;6.0369514
X-APPLE-STRUCTURED-LOCATION;VALUE=URI;X-ADDRESS=Place de la Mairie Rue de la Maison-Forte 11 Laconnex 1287 Suisse;X-APPLE-RADIUS=500;X-TITLE=Rue de la Maison-Forte 11:geo:6.0369514,46.1568937
END:VEVENT
BEGIN:VEVENT
DTSTART;TZID=Europe/Zurich:20230517T100000
DTEND;TZID=Europe/Zurich:20230517T140000
DTSTAMP:20260426T011646
CREATED:20200128T142643Z
LAST-MODIFIED:20201008T072231Z
UID:10005361-1684317600-1684332000@www.laconnex.ch
SUMMARY:Marché - annulé
DESCRIPTION:Pour toutes questions : Marc Dupraz mdupraz@hotmail.com
URL:https://www.laconnex.ch/rendez-vous/marche-7/2023-05-17/
LOCATION:Place de la Mairie\, Rue de la Maison-Forte 11\, Laconnex\, 1287\, Suisse
CATEGORIES:Marché
ATTACH;FMTTYPE=image/jpeg:https://www.laconnex.ch/2025/wp-content/uploads/Marché-de-Laconnex.jpg
GEO:46.1568937;6.0369514
X-APPLE-STRUCTURED-LOCATION;VALUE=URI;X-ADDRESS=Place de la Mairie Rue de la Maison-Forte 11 Laconnex 1287 Suisse;X-APPLE-RADIUS=500;X-TITLE=Rue de la Maison-Forte 11:geo:6.0369514,46.1568937
END:VEVENT
BEGIN:VEVENT
DTSTART;TZID=Europe/Zurich:20230517T100000
DTEND;TZID=Europe/Zurich:20230517T140000
DTSTAMP:20260426T011646
CREATED:20200128T142620Z
LAST-MODIFIED:20200914T090140Z
UID:10001185-1684317600-1684332000@www.laconnex.ch
SUMMARY:Marché - annulé
DESCRIPTION:Pour toutes questions : Marc Dupraz mdupraz@hotmail.com
URL:https://www.laconnex.ch/rendez-vous/marche-6/2023-05-17/
LOCATION:Place de la Mairie\, Rue de la Maison-Forte 11\, Laconnex\, 1287\, Suisse
CATEGORIES:Marché
ATTACH;FMTTYPE=image/jpeg:https://www.laconnex.ch/2025/wp-content/uploads/Marché-de-Laconnex.jpg
GEO:46.1568937;6.0369514
X-APPLE-STRUCTURED-LOCATION;VALUE=URI;X-ADDRESS=Place de la Mairie Rue de la Maison-Forte 11 Laconnex 1287 Suisse;X-APPLE-RADIUS=500;X-TITLE=Rue de la Maison-Forte 11:geo:6.0369514,46.1568937
END:VEVENT
BEGIN:VEVENT
DTSTART;TZID=Europe/Zurich:20230517T100000
DTEND;TZID=Europe/Zurich:20230517T140000
DTSTAMP:20260426T011646
CREATED:20200128T142549Z
LAST-MODIFIED:20200611T114438Z
UID:10002302-1684317600-1684332000@www.laconnex.ch
SUMMARY:Marché - annulé !
DESCRIPTION:Pour toutes questions : Marc Dupraz mdupraz@hotmail.com
URL:https://www.laconnex.ch/rendez-vous/marche-5/2023-05-17/
LOCATION:Place de la Mairie\, Rue de la Maison-Forte 11\, Laconnex\, 1287\, Suisse
CATEGORIES:Marché
ATTACH;FMTTYPE=image/jpeg:https://www.laconnex.ch/2025/wp-content/uploads/Marché-de-Laconnex.jpg
GEO:46.1568937;6.0369514
X-APPLE-STRUCTURED-LOCATION;VALUE=URI;X-ADDRESS=Place de la Mairie Rue de la Maison-Forte 11 Laconnex 1287 Suisse;X-APPLE-RADIUS=500;X-TITLE=Rue de la Maison-Forte 11:geo:6.0369514,46.1568937
END:VEVENT
BEGIN:VEVENT
DTSTART;TZID=Europe/Zurich:20230516T100000
DTEND;TZID=Europe/Zurich:20230516T140000
DTSTAMP:20260426T011646
CREATED:20200128T142931Z
LAST-MODIFIED:20201008T073723Z
UID:10007236-1684231200-1684245600@www.laconnex.ch
SUMMARY:Marché - annulé
DESCRIPTION:Pour toutes questions : Marc Dupraz mdupraz@hotmail.com
URL:https://www.laconnex.ch/rendez-vous/marche-9/2023-05-16/
LOCATION:Place de la Mairie\, Rue de la Maison-Forte 11\, Laconnex\, 1287\, Suisse
CATEGORIES:Marché
ATTACH;FMTTYPE=image/jpeg:https://www.laconnex.ch/2025/wp-content/uploads/Marché-de-Laconnex.jpg
GEO:46.1568937;6.0369514
X-APPLE-STRUCTURED-LOCATION;VALUE=URI;X-ADDRESS=Place de la Mairie Rue de la Maison-Forte 11 Laconnex 1287 Suisse;X-APPLE-RADIUS=500;X-TITLE=Rue de la Maison-Forte 11:geo:6.0369514,46.1568937
END:VEVENT
BEGIN:VEVENT
DTSTART;TZID=Europe/Zurich:20230516T100000
DTEND;TZID=Europe/Zurich:20230516T140000
DTSTAMP:20260426T011646
CREATED:20200128T142907Z
LAST-MODIFIED:20201008T072318Z
UID:10006310-1684231200-1684245600@www.laconnex.ch
SUMMARY:Marché - annulé
DESCRIPTION:Pour toutes questions : Marc Dupraz mdupraz@hotmail.com
URL:https://www.laconnex.ch/rendez-vous/marche-8/2023-05-16/
LOCATION:Place de la Mairie\, Rue de la Maison-Forte 11\, Laconnex\, 1287\, Suisse
CATEGORIES:Marché
ATTACH;FMTTYPE=image/jpeg:https://www.laconnex.ch/2025/wp-content/uploads/Marché-de-Laconnex.jpg
GEO:46.1568937;6.0369514
X-APPLE-STRUCTURED-LOCATION;VALUE=URI;X-ADDRESS=Place de la Mairie Rue de la Maison-Forte 11 Laconnex 1287 Suisse;X-APPLE-RADIUS=500;X-TITLE=Rue de la Maison-Forte 11:geo:6.0369514,46.1568937
END:VEVENT
BEGIN:VEVENT
DTSTART;TZID=Europe/Zurich:20230516T100000
DTEND;TZID=Europe/Zurich:20230516T140000
DTSTAMP:20260426T011646
CREATED:20200128T142643Z
LAST-MODIFIED:20201008T072231Z
UID:10005360-1684231200-1684245600@www.laconnex.ch
SUMMARY:Marché - annulé
DESCRIPTION:Pour toutes questions : Marc Dupraz mdupraz@hotmail.com
URL:https://www.laconnex.ch/rendez-vous/marche-7/2023-05-16/
LOCATION:Place de la Mairie\, Rue de la Maison-Forte 11\, Laconnex\, 1287\, Suisse
CATEGORIES:Marché
ATTACH;FMTTYPE=image/jpeg:https://www.laconnex.ch/2025/wp-content/uploads/Marché-de-Laconnex.jpg
GEO:46.1568937;6.0369514
X-APPLE-STRUCTURED-LOCATION;VALUE=URI;X-ADDRESS=Place de la Mairie Rue de la Maison-Forte 11 Laconnex 1287 Suisse;X-APPLE-RADIUS=500;X-TITLE=Rue de la Maison-Forte 11:geo:6.0369514,46.1568937
END:VEVENT
BEGIN:VEVENT
DTSTART;TZID=Europe/Zurich:20230516T100000
DTEND;TZID=Europe/Zurich:20230516T140000
DTSTAMP:20260426T011646
CREATED:20200128T142620Z
LAST-MODIFIED:20200914T090140Z
UID:10001184-1684231200-1684245600@www.laconnex.ch
SUMMARY:Marché - annulé
DESCRIPTION:Pour toutes questions : Marc Dupraz mdupraz@hotmail.com
URL:https://www.laconnex.ch/rendez-vous/marche-6/2023-05-16/
LOCATION:Place de la Mairie\, Rue de la Maison-Forte 11\, Laconnex\, 1287\, Suisse
CATEGORIES:Marché
ATTACH;FMTTYPE=image/jpeg:https://www.laconnex.ch/2025/wp-content/uploads/Marché-de-Laconnex.jpg
GEO:46.1568937;6.0369514
X-APPLE-STRUCTURED-LOCATION;VALUE=URI;X-ADDRESS=Place de la Mairie Rue de la Maison-Forte 11 Laconnex 1287 Suisse;X-APPLE-RADIUS=500;X-TITLE=Rue de la Maison-Forte 11:geo:6.0369514,46.1568937
END:VEVENT
BEGIN:VEVENT
DTSTART;TZID=Europe/Zurich:20230516T100000
DTEND;TZID=Europe/Zurich:20230516T140000
DTSTAMP:20260426T011646
CREATED:20200128T142549Z
LAST-MODIFIED:20200611T114438Z
UID:10002301-1684231200-1684245600@www.laconnex.ch
SUMMARY:Marché - annulé !
DESCRIPTION:Pour toutes questions : Marc Dupraz mdupraz@hotmail.com
URL:https://www.laconnex.ch/rendez-vous/marche-5/2023-05-16/
LOCATION:Place de la Mairie\, Rue de la Maison-Forte 11\, Laconnex\, 1287\, Suisse
CATEGORIES:Marché
ATTACH;FMTTYPE=image/jpeg:https://www.laconnex.ch/2025/wp-content/uploads/Marché-de-Laconnex.jpg
GEO:46.1568937;6.0369514
X-APPLE-STRUCTURED-LOCATION;VALUE=URI;X-ADDRESS=Place de la Mairie Rue de la Maison-Forte 11 Laconnex 1287 Suisse;X-APPLE-RADIUS=500;X-TITLE=Rue de la Maison-Forte 11:geo:6.0369514,46.1568937
END:VEVENT
BEGIN:VEVENT
DTSTART;TZID=Europe/Zurich:20230515T100000
DTEND;TZID=Europe/Zurich:20230515T140000
DTSTAMP:20260426T011646
CREATED:20200128T142931Z
LAST-MODIFIED:20201008T073723Z
UID:10007235-1684144800-1684159200@www.laconnex.ch
SUMMARY:Marché - annulé
DESCRIPTION:Pour toutes questions : Marc Dupraz mdupraz@hotmail.com
URL:https://www.laconnex.ch/rendez-vous/marche-9/2023-05-15/
LOCATION:Place de la Mairie\, Rue de la Maison-Forte 11\, Laconnex\, 1287\, Suisse
CATEGORIES:Marché
ATTACH;FMTTYPE=image/jpeg:https://www.laconnex.ch/2025/wp-content/uploads/Marché-de-Laconnex.jpg
GEO:46.1568937;6.0369514
X-APPLE-STRUCTURED-LOCATION;VALUE=URI;X-ADDRESS=Place de la Mairie Rue de la Maison-Forte 11 Laconnex 1287 Suisse;X-APPLE-RADIUS=500;X-TITLE=Rue de la Maison-Forte 11:geo:6.0369514,46.1568937
END:VEVENT
BEGIN:VEVENT
DTSTART;TZID=Europe/Zurich:20230515T100000
DTEND;TZID=Europe/Zurich:20230515T140000
DTSTAMP:20260426T011646
CREATED:20200128T142907Z
LAST-MODIFIED:20201008T072318Z
UID:10006309-1684144800-1684159200@www.laconnex.ch
SUMMARY:Marché - annulé
DESCRIPTION:Pour toutes questions : Marc Dupraz mdupraz@hotmail.com
URL:https://www.laconnex.ch/rendez-vous/marche-8/2023-05-15/
LOCATION:Place de la Mairie\, Rue de la Maison-Forte 11\, Laconnex\, 1287\, Suisse
CATEGORIES:Marché
ATTACH;FMTTYPE=image/jpeg:https://www.laconnex.ch/2025/wp-content/uploads/Marché-de-Laconnex.jpg
GEO:46.1568937;6.0369514
X-APPLE-STRUCTURED-LOCATION;VALUE=URI;X-ADDRESS=Place de la Mairie Rue de la Maison-Forte 11 Laconnex 1287 Suisse;X-APPLE-RADIUS=500;X-TITLE=Rue de la Maison-Forte 11:geo:6.0369514,46.1568937
END:VEVENT
BEGIN:VEVENT
DTSTART;TZID=Europe/Zurich:20230515T100000
DTEND;TZID=Europe/Zurich:20230515T140000
DTSTAMP:20260426T011646
CREATED:20200128T142643Z
LAST-MODIFIED:20201008T072231Z
UID:10005359-1684144800-1684159200@www.laconnex.ch
SUMMARY:Marché - annulé
DESCRIPTION:Pour toutes questions : Marc Dupraz mdupraz@hotmail.com
URL:https://www.laconnex.ch/rendez-vous/marche-7/2023-05-15/
LOCATION:Place de la Mairie\, Rue de la Maison-Forte 11\, Laconnex\, 1287\, Suisse
CATEGORIES:Marché
ATTACH;FMTTYPE=image/jpeg:https://www.laconnex.ch/2025/wp-content/uploads/Marché-de-Laconnex.jpg
GEO:46.1568937;6.0369514
X-APPLE-STRUCTURED-LOCATION;VALUE=URI;X-ADDRESS=Place de la Mairie Rue de la Maison-Forte 11 Laconnex 1287 Suisse;X-APPLE-RADIUS=500;X-TITLE=Rue de la Maison-Forte 11:geo:6.0369514,46.1568937
END:VEVENT
BEGIN:VEVENT
DTSTART;TZID=Europe/Zurich:20230515T100000
DTEND;TZID=Europe/Zurich:20230515T140000
DTSTAMP:20260426T011646
CREATED:20200128T142620Z
LAST-MODIFIED:20200914T090140Z
UID:10001183-1684144800-1684159200@www.laconnex.ch
SUMMARY:Marché - annulé
DESCRIPTION:Pour toutes questions : Marc Dupraz mdupraz@hotmail.com
URL:https://www.laconnex.ch/rendez-vous/marche-6/2023-05-15/
LOCATION:Place de la Mairie\, Rue de la Maison-Forte 11\, Laconnex\, 1287\, Suisse
CATEGORIES:Marché
ATTACH;FMTTYPE=image/jpeg:https://www.laconnex.ch/2025/wp-content/uploads/Marché-de-Laconnex.jpg
GEO:46.1568937;6.0369514
X-APPLE-STRUCTURED-LOCATION;VALUE=URI;X-ADDRESS=Place de la Mairie Rue de la Maison-Forte 11 Laconnex 1287 Suisse;X-APPLE-RADIUS=500;X-TITLE=Rue de la Maison-Forte 11:geo:6.0369514,46.1568937
END:VEVENT
BEGIN:VEVENT
DTSTART;TZID=Europe/Zurich:20230515T100000
DTEND;TZID=Europe/Zurich:20230515T140000
DTSTAMP:20260426T011646
CREATED:20200128T142549Z
LAST-MODIFIED:20200611T114438Z
UID:10002300-1684144800-1684159200@www.laconnex.ch
SUMMARY:Marché - annulé !
DESCRIPTION:Pour toutes questions : Marc Dupraz mdupraz@hotmail.com
URL:https://www.laconnex.ch/rendez-vous/marche-5/2023-05-15/
LOCATION:Place de la Mairie\, Rue de la Maison-Forte 11\, Laconnex\, 1287\, Suisse
CATEGORIES:Marché
ATTACH;FMTTYPE=image/jpeg:https://www.laconnex.ch/2025/wp-content/uploads/Marché-de-Laconnex.jpg
GEO:46.1568937;6.0369514
X-APPLE-STRUCTURED-LOCATION;VALUE=URI;X-ADDRESS=Place de la Mairie Rue de la Maison-Forte 11 Laconnex 1287 Suisse;X-APPLE-RADIUS=500;X-TITLE=Rue de la Maison-Forte 11:geo:6.0369514,46.1568937
END:VEVENT
BEGIN:VEVENT
DTSTART;TZID=Europe/Zurich:20230514T100000
DTEND;TZID=Europe/Zurich:20230514T140000
DTSTAMP:20260426T011646
CREATED:20200128T142931Z
LAST-MODIFIED:20201008T073723Z
UID:10007234-1684058400-1684072800@www.laconnex.ch
SUMMARY:Marché - annulé
DESCRIPTION:Pour toutes questions : Marc Dupraz mdupraz@hotmail.com
URL:https://www.laconnex.ch/rendez-vous/marche-9/2023-05-14/
LOCATION:Place de la Mairie\, Rue de la Maison-Forte 11\, Laconnex\, 1287\, Suisse
CATEGORIES:Marché
ATTACH;FMTTYPE=image/jpeg:https://www.laconnex.ch/2025/wp-content/uploads/Marché-de-Laconnex.jpg
GEO:46.1568937;6.0369514
X-APPLE-STRUCTURED-LOCATION;VALUE=URI;X-ADDRESS=Place de la Mairie Rue de la Maison-Forte 11 Laconnex 1287 Suisse;X-APPLE-RADIUS=500;X-TITLE=Rue de la Maison-Forte 11:geo:6.0369514,46.1568937
END:VEVENT
BEGIN:VEVENT
DTSTART;TZID=Europe/Zurich:20230514T100000
DTEND;TZID=Europe/Zurich:20230514T140000
DTSTAMP:20260426T011646
CREATED:20200128T142907Z
LAST-MODIFIED:20201008T072318Z
UID:10006308-1684058400-1684072800@www.laconnex.ch
SUMMARY:Marché - annulé
DESCRIPTION:Pour toutes questions : Marc Dupraz mdupraz@hotmail.com
URL:https://www.laconnex.ch/rendez-vous/marche-8/2023-05-14/
LOCATION:Place de la Mairie\, Rue de la Maison-Forte 11\, Laconnex\, 1287\, Suisse
CATEGORIES:Marché
ATTACH;FMTTYPE=image/jpeg:https://www.laconnex.ch/2025/wp-content/uploads/Marché-de-Laconnex.jpg
GEO:46.1568937;6.0369514
X-APPLE-STRUCTURED-LOCATION;VALUE=URI;X-ADDRESS=Place de la Mairie Rue de la Maison-Forte 11 Laconnex 1287 Suisse;X-APPLE-RADIUS=500;X-TITLE=Rue de la Maison-Forte 11:geo:6.0369514,46.1568937
END:VEVENT
BEGIN:VEVENT
DTSTART;TZID=Europe/Zurich:20230514T100000
DTEND;TZID=Europe/Zurich:20230514T140000
DTSTAMP:20260426T011646
CREATED:20200128T142643Z
LAST-MODIFIED:20201008T072231Z
UID:10005358-1684058400-1684072800@www.laconnex.ch
SUMMARY:Marché - annulé
DESCRIPTION:Pour toutes questions : Marc Dupraz mdupraz@hotmail.com
URL:https://www.laconnex.ch/rendez-vous/marche-7/2023-05-14/
LOCATION:Place de la Mairie\, Rue de la Maison-Forte 11\, Laconnex\, 1287\, Suisse
CATEGORIES:Marché
ATTACH;FMTTYPE=image/jpeg:https://www.laconnex.ch/2025/wp-content/uploads/Marché-de-Laconnex.jpg
GEO:46.1568937;6.0369514
X-APPLE-STRUCTURED-LOCATION;VALUE=URI;X-ADDRESS=Place de la Mairie Rue de la Maison-Forte 11 Laconnex 1287 Suisse;X-APPLE-RADIUS=500;X-TITLE=Rue de la Maison-Forte 11:geo:6.0369514,46.1568937
END:VEVENT
BEGIN:VEVENT
DTSTART;TZID=Europe/Zurich:20230514T100000
DTEND;TZID=Europe/Zurich:20230514T140000
DTSTAMP:20260426T011646
CREATED:20200128T142620Z
LAST-MODIFIED:20200914T090140Z
UID:10001182-1684058400-1684072800@www.laconnex.ch
SUMMARY:Marché - annulé
DESCRIPTION:Pour toutes questions : Marc Dupraz mdupraz@hotmail.com
URL:https://www.laconnex.ch/rendez-vous/marche-6/2023-05-14/
LOCATION:Place de la Mairie\, Rue de la Maison-Forte 11\, Laconnex\, 1287\, Suisse
CATEGORIES:Marché
ATTACH;FMTTYPE=image/jpeg:https://www.laconnex.ch/2025/wp-content/uploads/Marché-de-Laconnex.jpg
GEO:46.1568937;6.0369514
X-APPLE-STRUCTURED-LOCATION;VALUE=URI;X-ADDRESS=Place de la Mairie Rue de la Maison-Forte 11 Laconnex 1287 Suisse;X-APPLE-RADIUS=500;X-TITLE=Rue de la Maison-Forte 11:geo:6.0369514,46.1568937
END:VEVENT
BEGIN:VEVENT
DTSTART;TZID=Europe/Zurich:20230514T100000
DTEND;TZID=Europe/Zurich:20230514T140000
DTSTAMP:20260426T011646
CREATED:20200128T142549Z
LAST-MODIFIED:20200611T114438Z
UID:10002299-1684058400-1684072800@www.laconnex.ch
SUMMARY:Marché - annulé !
DESCRIPTION:Pour toutes questions : Marc Dupraz mdupraz@hotmail.com
URL:https://www.laconnex.ch/rendez-vous/marche-5/2023-05-14/
LOCATION:Place de la Mairie\, Rue de la Maison-Forte 11\, Laconnex\, 1287\, Suisse
CATEGORIES:Marché
ATTACH;FMTTYPE=image/jpeg:https://www.laconnex.ch/2025/wp-content/uploads/Marché-de-Laconnex.jpg
GEO:46.1568937;6.0369514
X-APPLE-STRUCTURED-LOCATION;VALUE=URI;X-ADDRESS=Place de la Mairie Rue de la Maison-Forte 11 Laconnex 1287 Suisse;X-APPLE-RADIUS=500;X-TITLE=Rue de la Maison-Forte 11:geo:6.0369514,46.1568937
END:VEVENT
END:VCALENDAR